BEGIN:VCALENDAR
VERSION:2.0
PRODID:-//Crosby Scholars Forsyth - ECPv6.15.13.1//NONSGML v1.0//EN
CALSCALE:GREGORIAN
METHOD:PUBLISH
X-ORIGINAL-URL:https://www.crosbyscholars.org
X-WR-CALDESC:Events for Crosby Scholars Forsyth
REFRESH-INTERVAL;VALUE=DURATION:PT1H
X-Robots-Tag:noindex
X-PUBLISHED-TTL:PT1H
BEGIN:VTIMEZONE
TZID:America/New_York
BEGIN:DAYLIGHT
TZOFFSETFROM:-0500
TZOFFSETTO:-0400
TZNAME:EDT
DTSTART:20190310T070000
END:DAYLIGHT
BEGIN:STANDARD
TZOFFSETFROM:-0400
TZOFFSETTO:-0500
TZNAME:EST
DTSTART:20191103T060000
END:STANDARD
BEGIN:DAYLIGHT
TZOFFSETFROM:-0500
TZOFFSETTO:-0400
TZNAME:EDT
DTSTART:20200308T070000
END:DAYLIGHT
BEGIN:STANDARD
TZOFFSETFROM:-0400
TZOFFSETTO:-0500
TZNAME:EST
DTSTART:20201101T060000
END:STANDARD
BEGIN:DAYLIGHT
TZOFFSETFROM:-0500
TZOFFSETTO:-0400
TZNAME:EDT
DTSTART:20210314T070000
END:DAYLIGHT
BEGIN:STANDARD
TZOFFSETFROM:-0400
TZOFFSETTO:-0500
TZNAME:EST
DTSTART:20211107T060000
END:STANDARD
END:VTIMEZONE
BEGIN:VEVENT
DTSTART;TZID=America/New_York:20200630T140000
DTEND;TZID=America/New_York:20200630T153000
DTSTAMP:20260425T224448
CREATED:20200619T142619Z
LAST-MODIFIED:20200619T142753Z
UID:5138-1593525600-1593531000@www.crosbyscholars.org
SUMMARY:Think Like a Senior WEBINAR (Juniors)
DESCRIPTION:The final junior year program requirement is to attend ONE Think Like a Senior session! \nThe JUNE 30th session is a webinar presentation\, which means you do not attend in person. Please read the Webinar Attendance Agreement before registering in your student portal. \nDuring the webinar\, you will learn about the Crosby Scholars Senior Program requirements and how Crosby Scholars supports you through the college admission and financial aid processes\, including your enrollment decision! We will also discuss the Crosby Scholars Senior Advisor Program in depth so that you are well equipped to choose wisely when selecting a Senior Advisor. \nRegistration is required in your Crosby Scholars Student Portal\, and is limited to 300 participants. Given the significant role they play in the college journey\, parents are strongly encouraged to watch the webinar along with their student; however\, parents cannot watch the webinar on a student’s behalf. Please register as soon as possible in order to attend a webinar. \nThis registration is for the Webinar on June 30th from 2:00-3:30pm. Please download and read the Webinar Attendance Agreement before registering. \nThe webinar requires the following: \n\nComputer\nInternet Connection\nEmail address to log in to the presentation\nPhone or Computer Speakers\n\nYou must log in to the webinar (at home or any place with Internet access) on time\, watch the entire webinar\, and submit a confirmation of attendance in order to receive credit for attending. You will receive a link and login instructions prior to the beginning of the webinar via email. If you have questions after 5:00pm on the day of the webinar\, please call the Crosby Scholars Program’s cell at 336-671-5494. \nMake sure to answer the two questions that follow the registration information–including ordering your FREE Crosby Scholars Class of 2021 t-shirt — before submitting your registration.
URL:https://www.crosbyscholars.org/event/think-like-a-senior-webinar-juniors-6/
END:VEVENT
END:VCALENDAR