BEGIN:VCALENDAR
VERSION:2.0
PRODID:-//Crosby Scholars Forsyth - ECPv6.15.13.1//NONSGML v1.0//EN
CALSCALE:GREGORIAN
METHOD:PUBLISH
X-WR-CALNAME:Crosby Scholars Forsyth
X-ORIGINAL-URL:https://www.crosbyscholars.org
X-WR-CALDESC:Events for Crosby Scholars Forsyth
REFRESH-INTERVAL;VALUE=DURATION:PT1H
X-Robots-Tag:noindex
X-PUBLISHED-TTL:PT1H
BEGIN:VTIMEZONE
TZID:America/New_York
BEGIN:DAYLIGHT
TZOFFSETFROM:-0500
TZOFFSETTO:-0400
TZNAME:EDT
DTSTART:20190310T070000
END:DAYLIGHT
BEGIN:STANDARD
TZOFFSETFROM:-0400
TZOFFSETTO:-0500
TZNAME:EST
DTSTART:20191103T060000
END:STANDARD
BEGIN:DAYLIGHT
TZOFFSETFROM:-0500
TZOFFSETTO:-0400
TZNAME:EDT
DTSTART:20200308T070000
END:DAYLIGHT
BEGIN:STANDARD
TZOFFSETFROM:-0400
TZOFFSETTO:-0500
TZNAME:EST
DTSTART:20201101T060000
END:STANDARD
BEGIN:DAYLIGHT
TZOFFSETFROM:-0500
TZOFFSETTO:-0400
TZNAME:EDT
DTSTART:20210314T070000
END:DAYLIGHT
BEGIN:STANDARD
TZOFFSETFROM:-0400
TZOFFSETTO:-0500
TZNAME:EST
DTSTART:20211107T060000
END:STANDARD
END:VTIMEZONE
BEGIN:VEVENT
DTSTART;TZID=America/New_York:20200909T163000
DTEND;TZID=America/New_York:20200909T173000
DTSTAMP:20260423T080241
CREATED:20200902T203702Z
LAST-MODIFIED:20200902T204610Z
UID:5478-1599669000-1599672600@www.crosbyscholars.org
SUMMARY:CSA #13-A College Prep Lab- Time Slot #1 (Seniors)
DESCRIPTION:We’re offering a virtual zoom “college lab” time to assist you in applying to college! If you have specific questions about your college applications\, this is a great academy to attend to receive individual help. You can create a Common/CFNC/Coalition account\, complete your Residency Determination Service online interview\, work on college applications\, essays\, and more. We’ll have staff on hand to answer any questions you might have about applying to college. \nTitle: CSA #13-A College Prep Lab \nDate: Wednesday\, September 9 \nTime: 4:30 – 5:30 pm \nLocation: Virtual- registration for this event is required to received the event link. 24 hours before the event you will receive the link to join the virtual presentation. ***Registration in your student portal is required. \nThis virtual presentation will require the following: \n\nInternet Connection\nComputer- you can join the call via your phone\, but you must have a computer available to work on your applications\nEmail address to log in to the presentation\nSpeakers\n\nYou must be able to meet all the above listed criteria to participate in this virtual academy. If you cannot meet these requirements please do not register to participate. You must log in to the presentation on time. You will receive a link and login instructions via email prior to start the virtual presentation. \nA brief primer on Crosby Scholars Senior Academies:  Academies are held annually over a 6-month period (July to December); students must attend two and are free to choose those that best suit their needs and interests; the most up-to-date information on the academies is found in the student portal; while they are a program requirement\, academies are best viewed as opportunities to gain knowledge and skills that guide students through senior year and into post-secondary education.
URL:https://www.crosbyscholars.org/event/csa-13-a-college-prep-lab-time-slot-1/
END:VEVENT
BEGIN:VEVENT
DTSTART;TZID=America/New_York:20200909T173000
DTEND;TZID=America/New_York:20200909T183000
DTSTAMP:20260423T080241
CREATED:20200902T203802Z
LAST-MODIFIED:20200902T204634Z
UID:5481-1599672600-1599676200@www.crosbyscholars.org
SUMMARY:CSA #13-A College Prep Lab- Time Slot #2 (Seniors)
DESCRIPTION:We’re offering a virtual zoom “college lab” time to assist you in applying to college! If you have specific questions about your college applications\, this is a great academy to attend to receive individual help. You can create a Common/CFNC/Coalition account\, complete your Residency Determination Service online interview\, work on college applications\, essays\, and more. We’ll have staff on hand to answer any questions you might have about applying to college. \nTitle: CSA #13-A College Prep Lab \nDate: Wednesday\, September 9 \nTime: 5:30 – 6:30 pm \nLocation: Virtual- registration for this event is required to received the event link. 24 hours before the event you will receive the link to join the virtual presentation. ***Registration in your student portal is required. \nThis virtual presentation will require the following: \n\nInternet Connection\nComputer- you can join the call via your phone\, but you must have a computer available to work on your applications\nEmail address to log in to the presentation\nSpeakers\n\nYou must be able to meet all the above listed criteria to participate in this virtual academy. If you cannot meet these requirements please do not register to participate. You must log in to the presentation on time. You will receive a link and login instructions via email prior to start the virtual presentation. \nA brief primer on Crosby Scholars Senior Academies:  Academies are held annually over a 6-month period (July to December); students must attend two and are free to choose those that best suit their needs and interests; the most up-to-date information on the academies is found in the student portal; while they are a program requirement\, academies are best viewed as opportunities to gain knowledge and skills that guide students through senior year and into post-secondary education.
URL:https://www.crosbyscholars.org/event/csa-13-a-college-prep-lab-time-slot-2/
END:VEVENT
BEGIN:VEVENT
DTSTART;TZID=America/New_York:20200916T190000
DTEND;TZID=America/New_York:20200916T200000
DTSTAMP:20260423T080241
CREATED:20200902T203928Z
LAST-MODIFIED:20200902T204747Z
UID:5483-1600282800-1600286400@www.crosbyscholars.org
SUMMARY:CSA #14 QuestBridge- Behind the Scenes with Admissions Officers (discussion led by QuestBridge) (Seniors)
DESCRIPTION:Join QuestBridge on Septemer 16th for a QuestCast webinar discussing the “Behind the Scenes with Admissions Officers”. Various college respresentatives will talk about the application process\, enhancing your college essay\, and more to better equip you in your application process. \nTo receive academy credit you must: \n1. Register for the QuestMatch. Link is provided in your Crosby Scholars Student Portal. \n2. Attend the webinar on September 16th at 7PMEST (important note: the time listed for QuestBridge is 4:00PM PST which is three hours behind\, making it 7PM EST) \n3. Once you have completed the webinar\, you will be emailed a confirmation from QuestBridge. You must forward this confirmation to seniorprogram@crosbyscholars.org to show proof of attendance. Without this confirmation page\, we will not be able to verify or award credit for this academy. \nIMPORTANT NOTE: This is not a Crosby Scholars sponsored event\, however we will award academy credit for students who participate. Crosby Scholars does not take responsibility for any issues or delays in the presentation\, nor the message of the presenters. \nAbout QuestBridge: The QuestBridge National College Match helps outstanding low-income high school seniors gain admission and full four-year scholarships to some of the nation’s most selective colleges. The appliation to apply is September 29\, 2020. \nContact us at seniorprogram@crosbyscholars.org if there are any questions or concerns.
URL:https://www.crosbyscholars.org/event/csa-14-questbridge-behind-the-scenes-with-admissions-officers-discussion-led-by-questbridge/
END:VEVENT
BEGIN:VEVENT
DTSTART;TZID=America/New_York:20200918T150000
DTEND;TZID=America/New_York:20200918T160000
DTSTAMP:20260423T080241
CREATED:20200902T204032Z
LAST-MODIFIED:20200902T204822Z
UID:5485-1600441200-1600444800@www.crosbyscholars.org
SUMMARY:CSA #13-B College Prep Lab- Time Slot #1 (Seniors)
DESCRIPTION:We’re offering a virtual zoom “college lab” time to assist you in applying to college! If you have specific questions about your college applications\, this is a great academy to attend to receive individual help. You can create a Common/CFNC/Coalition account\, complete your Residency Determination Service online interview\, work on college applications\, essays\, and more. We’ll have staff on hand to answer any questions you might have about applying to college. \nTitle: CSA #13-B College Prep Lab- Time Slot #1 \nDate: Friday\, September 18 \nTime: 3:00 – 4:00 pm \nLocation: Virtual- registration for this event is required to received the event link. 24 hours before the event you will receive the link to join the virtual presentation. ***Registration in your student portal is required. \nThis virtual presentation will require the following: \n\nInternet Connection\nComputer- you can join the call via your phone\, but you must have a computer available to work on your applications\nEmail address to log in to the presentation\nSpeakers\n\nYou must be able to meet all the above listed criteria to participate in this virtual academy. If you cannot meet these requirements please do not register to participate. You must log in to the presentation on time. You will receive a link and login instructions via email prior to start the virtual presentation. \nA brief primer on Crosby Scholars Senior Academies:  Academies are held annually over a 6-month period (July to December); students must attend two and are free to choose those that best suit their needs and interests; the most up-to-date information on the academies is found in the student portal; while they are a program requirement\, academies are best viewed as opportunities to gain knowledge and skills that guide students through senior year and into post-secondary education.
URL:https://www.crosbyscholars.org/event/csa-13-b-college-prep-lab-time-slot-1/
END:VEVENT
BEGIN:VEVENT
DTSTART;TZID=America/New_York:20200918T160000
DTEND;TZID=America/New_York:20200918T170000
DTSTAMP:20260423T080241
CREATED:20200902T204215Z
LAST-MODIFIED:20200909T142836Z
UID:5487-1600444800-1600448400@www.crosbyscholars.org
SUMMARY:CSA #13-B College Prep Lab- Time Slot #2 (Seniors)
DESCRIPTION:We’re offering a virtual zoom “college lab” time to assist you in applying to college! If you have specific questions about your college applications\, this is a great academy to attend to receive individual help. You can create a Common/CFNC/Coalition account\, complete your Residency Determination Service online interview\, work on college applications\, essays\, and more. We’ll have staff on hand to answer any questions you might have about applying to college. \nTitle: CSA #13-B College Prep Lab- Time Slot #2 \nDate: Friday\, September 18 \nTime: 4:00 – 5:00 pm \nLocation: Virtual- registration for this event is required to received the event link. 24 hours before the event you will receive the link to join the virtual presentation. \nThis virtual presentation will require the following: \n\nInternet Connection\nComputer- you can join the call via your phone\, but you must have a computer available to work on your applications\nEmail address to log in to the presentation\nSpeakers\n\nYou must be able to meet all the above listed criteria to participate in this virtual academy. If you cannot meet these requirements please do not register to participate. You must log in to the presentation on time. You will receive a link and login instructions via email prior to start the virtual presentation. \nA brief primer on Crosby Scholars Senior Academies:  Academies are held annually over a 6-month period (July to December); students must attend two and are free to choose those that best suit their needs and interests; the most up-to-date information on the academies is found in the student portal; while they are a program requirement\, academies are best viewed as opportunities to gain knowledge and skills that guide students through senior year and into post-secondary education.
URL:https://www.crosbyscholars.org/event/csa-13-a-college-prep-lab-time-slot-2-2/
END:VEVENT
BEGIN:VEVENT
DTSTART;VALUE=DATE:20200924
DTEND;VALUE=DATE:20200925
DTSTAMP:20260423T080241
CREATED:20200917T194114Z
LAST-MODIFIED:20200917T210838Z
UID:5625-1600905600-1600991999@www.crosbyscholars.org
SUMMARY:College-A-Day Series: Guilford College (Juniors & Seniors)
DESCRIPTION:Visiting your possible future home for your next educational journey is an exciting time as you consider where to apply for your collegiate career. However\, during this year and impacts from campus closures\, we have shifted our college tours to a virtual platform. Join us throughout the day on September 24 on social media and webinar\, to learn more about Guilford College! From 10AM-2PM we will takeover our Instagram (@crosbyscholars) covering a variety of topics on college life at Guilford. We will also host a Live College Panel at 6:30PM where you will have the opportunity to ask your specific questions to current college students. \nWe know that nothing can replace the experience of physically touring a college campus\, but we do hope we can help you connect with a variety of schools through a virtual platform. To encourage you to participate\, we will award credit for the College Fair/Visit requirement if you attend 4 out of the 5 Live College Panels between September and December. You will need to register for each Live Panel and attend at least 4 to receive credit. \n**SENIORS: The college panel will count for 1 our of 4 of the required college visits needed for the College Fair/Visit requirement due October 31st. You can combine these with additional College-A-Day sessions or complete virtual visits on your own to receive credit for the College Fair/Visit requirement. \n“College A Day”: Guilford College —  September 24\, 2020 (Registration is required in your student portal) \n10:00AM: Dorm Life Interviews: IGTV Launch \n11:00AM: Academic Q&A: IGTV Launch \n1:00PM: Extracurricular/Social Life Q&A: IGTV Launch \n2:00PM: Favorite Things About ECU: IGTV Launch \n6:30PM: LIVE COLLEGE PANEL: WEBEX Register in your student portal to attend this webinar panel. We will send the webex link to all students who pre-register. \n*The only activity that requires a registration is the LIVE COLLEGE PANEL at 6:30PM. The IGTV videos will go live on Instagram at the designated time above. They will be available to watch at any time after the launch. Be sure to watch them all to learn as much as you can about the school. Engage with us on social media to let us know you have watched the videos! We are not requiring attendance for the IGTV videos\, but we would like to know if you participated! We might even give away free swag to students who share the videos on their social media accounts! \nPlease reach out to seniorprogram@crosbyscholars.org with any questions.
URL:https://www.crosbyscholars.org/event/college-a-day-guilford-college-live-panel/
END:VEVENT
BEGIN:VEVENT
DTSTART;TZID=America/New_York:20200924T180000
DTEND;TZID=America/New_York:20200924T200000
DTSTAMP:20260423T080241
CREATED:20200902T204333Z
LAST-MODIFIED:20200902T205043Z
UID:5489-1600970400-1600977600@www.crosbyscholars.org
SUMMARY:CSA #12-B Essay Writing Bootcamp (Seniors)
DESCRIPTION:No calisthenics or saluting; we promise.  Bring your college admission or scholarship essay(s) and meet with Crosby staff and volunteers experienced in critiquing students’ writing.  Essays will be reviewed primarily for content with respect to following the prompt and being clear on what students are trying to share about themselves.  Those students whose essays reveal significant deficiencies in grammar\, punctuation\, and spelling will be advised to consult an English teacher for assistance in cleaning up those aspects of their writing. \nLocation: Virtual- Registration in your student portal for this event is required to received the event link. 24 hours before the event you will receive the link to join the virtual presentation. Students will be assigned a specific timeslot for the event. This information will be emailed 24 hours in advance along with the specific zoom information. \nThis virtual presentation will require the following: \n\nInternet Connection\nComputer\nEmail address to log in to the presentation\nSpeakers\n\nYou must be able to meet all the above listed criteria to participate in this virtual academy. If you cannot meet these requirements please do not register to participate. You must log in to the presentation on time. You will receive a link and login instructions via email prior to start the virtual presentation. \nA brief primer on Crosby Scholars Senior Academies:  Academies are held annually over a 6-month period (July to December); students must attend two and are free to choose those that best suit their needs and interests; the most up-to-date information on the academies is found in the student portal; while they are a program requirement\, academies are best viewed as opportunities to gain knowledge and skills that guide students through senior year and into post-secondary education.
URL:https://www.crosbyscholars.org/event/csa-12-b-essay-writing-bootcamp/
END:VEVENT
BEGIN:VEVENT
DTSTART;TZID=America/New_York:20200925T140000
DTEND;TZID=America/New_York:20200925T150000
DTSTAMP:20260423T080241
CREATED:20200902T204431Z
LAST-MODIFIED:20200902T205059Z
UID:5491-1601042400-1601046000@www.crosbyscholars.org
SUMMARY:CSA #15 FAQ- Test Optional Discussion (Seniors)
DESCRIPTION:Do you have questions about the test-optional policy that many schools have adopted for the 2020-2021 application year? Join us at CSA #15 FAQ- Test Optional Discussion to hear about the test optional policy change for the UNC system and hear our advice on deciding wether to submit scores or not. Be sure to add your specific questions when you register! \nTitle: CSA #15 FAQ- Test Optional Discussion \nDate: Friday\, September 25 \nTime: 2:00 – 3:00 pm \nLocation: Virtual- Registration in your student portal for this event is required to received the event link. 24 hours before the event you will receive the link to join the virtual presentation. \nThis virtual presentation will require the following: \n\nInternet Connection\nComputer\nEmail address to log in to the presentation\nSpeakers\n\nYou must be able to meet all the above listed criteria to participate in this virtual academy. If you cannot meet these requirements please do not register to participate. You must log in to the presentation on time. You will receive a link and login instructions via email prior to start the virtual presentation. \nWe encourage you to watch with a parent; however\, your parent cannot earn the academy credit for you. You must be present and engaged for the entire academy to earn credit.  \nA brief primer on Crosby Scholars Senior Academies:  Academies are held annually over a 6-month period (July to December); students must attend two and are free to choose those that best suit their needs and interests; the most up-to-date information on the academies is found in the student portal; while they are a program requirement\, academies are best viewed as opportunities to gain knowledge and skills that guide students through senior year and into post-secondary education.
URL:https://www.crosbyscholars.org/event/csa-15-faq-test-optional-discussion/
END:VEVENT
BEGIN:VEVENT
DTSTART;VALUE=DATE:20200930
DTEND;VALUE=DATE:20201001
DTSTAMP:20260423T080241
CREATED:20200917T195021Z
LAST-MODIFIED:20200917T210809Z
UID:5629-1601424000-1601510399@www.crosbyscholars.org
SUMMARY:College-A-Day Series: UNC Charlotte (Juniors & Seniors)
DESCRIPTION:Visiting your possible future home for your next educational journey is an exciting time as you consider where to apply for your collegiate career. However\, during this year and impacts from campus closures\, we have shifted our college tours to a virtual platform. Join us throughout the day on September 30 on social media and webinar\, to learn more about UNC Charlotte! From 10AM-2PM we will takeover our Instagram (@crosbyscholars) covering a variety of topics on college life at Guilford. We will also host a Live College Panel at 6:30PM where you will have the opportunity to ask your specific questions to current college students. \nWe know that nothing can replace the experience of physically touring a college campus\, but we do hope we can help you connect with a variety of schools through a virtual platform. To encourage you to participate\, we will award credit for the College Fair/Visit requirement if you attend 4 out of the 5 Live College Panels between September and December. You will need to register for each Live Panel and attend at least 4 to receive credit. \n**SENIORS: The college panel will count for 1 our of 4 of the required college visits needed for the College Fair/Visit requirement due October 31st. You can combine these with additional College-A-Day sessions or complete virtual visits on your own to receive credit for the College Fair/Visit requirement. \n“College A Day”: UNC Charlotte —  September 30\, 2020 (Registration is required in your student portal) \n10:00AM: Dorm Life Interviews: IGTV Launch \n11:00AM: Academic Q&A: IGTV Launch \n1:00PM: Extracurricular/Social Life Q&A: IGTV Launch \n2:00PM: Favorite Things About ECU: IGTV Launch \n6:30PM: LIVE COLLEGE PANEL: WEBEX Register in your student portal to attend this webinar panel. We will send the webex link to all students who pre-register. \n*The only activity that requires a registration is the LIVE COLLEGE PANEL at 6:30PM. The IGTV videos will go live on Instagram at the designated time above. They will be available to watch at any time after the launch. Be sure to watch them all to learn as much as you can about the school. Engage with us on social media to let us know you have watched the videos! We are not requiring attendance for the IGTV videos\, but we would like to know if you participated! We might even give away free swag to students who share the videos on their social media accounts! \nPlease reach out to seniorprogram@crosbyscholars.org with any questions.
URL:https://www.crosbyscholars.org/event/college-a-day-series-unc-charlotte-juniors-seniors/
END:VEVENT
END:VCALENDAR