BEGIN:VCALENDAR
VERSION:2.0
PRODID:-//Crosby Scholars Forsyth - ECPv6.15.13.1//NONSGML v1.0//EN
CALSCALE:GREGORIAN
METHOD:PUBLISH
X-WR-CALNAME:Crosby Scholars Forsyth
X-ORIGINAL-URL:https://www.crosbyscholars.org
X-WR-CALDESC:Events for Crosby Scholars Forsyth
REFRESH-INTERVAL;VALUE=DURATION:PT1H
X-Robots-Tag:noindex
X-PUBLISHED-TTL:PT1H
BEGIN:VTIMEZONE
TZID:America/New_York
BEGIN:DAYLIGHT
TZOFFSETFROM:-0500
TZOFFSETTO:-0400
TZNAME:EDT
DTSTART:20200308T070000
END:DAYLIGHT
BEGIN:STANDARD
TZOFFSETFROM:-0400
TZOFFSETTO:-0500
TZNAME:EST
DTSTART:20201101T060000
END:STANDARD
BEGIN:DAYLIGHT
TZOFFSETFROM:-0500
TZOFFSETTO:-0400
TZNAME:EDT
DTSTART:20210314T070000
END:DAYLIGHT
BEGIN:STANDARD
TZOFFSETFROM:-0400
TZOFFSETTO:-0500
TZNAME:EST
DTSTART:20211107T060000
END:STANDARD
BEGIN:DAYLIGHT
TZOFFSETFROM:-0500
TZOFFSETTO:-0400
TZNAME:EDT
DTSTART:20220313T070000
END:DAYLIGHT
BEGIN:STANDARD
TZOFFSETFROM:-0400
TZOFFSETTO:-0500
TZNAME:EST
DTSTART:20221106T060000
END:STANDARD
END:VTIMEZONE
BEGIN:VEVENT
DTSTART;TZID=America/New_York:20210505T150000
DTEND;TZID=America/New_York:20210505T160000
DTSTAMP:20260421T194615
CREATED:20210413T193019Z
LAST-MODIFIED:20210413T195049Z
UID:6604-1620226800-1620230400@www.crosbyscholars.org
SUMMARY:Think Like a Senior Webinar (Juniors)
DESCRIPTION:The final junior year program requirement is to attend ONE Think Like a Senior session! \nDuring the webinar\, you will learn about the Crosby Scholars Senior Program requirements and how Crosby Scholars supports you through the college admission and financial aid processes\, including your enrollment decision! We will also discuss the Crosby Scholars Senior Advisor Program in depth so that you are well equipped to choose wisely when selecting a Senior Advisor. \nRegistration is required in your Crosby Scholars Student Portal. Given the significant role they play in the college journey\, parents are strongly encouraged to watch the webinar along with their student; however\, parents cannot watch the webinar on a student’s behalf. Please register as soon as possible in order to attend the webinar of your choice. \nThe webinar requires the following: \n\nComputer\nInternet Connection\nEmail address to log in to the presentation\nPhone or Computer Speakers\n\nYou must log in to the webinar (at home or any place with Internet access) on time\, watch the entire webinar\, and submit a confirmation of attendance in order to receive credit for attending. You will receive a link and login instructions prior to the beginning of the webinar via email. If you have questions after 5:00pm Tuesday\, April 20th (the day before the webinar)\, please email us at seniorprogram@crosbyscholars.org
URL:https://www.crosbyscholars.org/event/think-like-a-senior-webinar-juniors-9/
END:VEVENT
BEGIN:VEVENT
DTSTART;TZID=America/New_York:20210508T100000
DTEND;TZID=America/New_York:20210508T110000
DTSTAMP:20260421T194615
CREATED:20210413T193239Z
LAST-MODIFIED:20210413T195028Z
UID:6606-1620468000-1620471600@www.crosbyscholars.org
SUMMARY:Think Like a Senior (Juniors)
DESCRIPTION:The final junior year program requirement is to attend ONE Think Like a Senior session! \nDuring the webinar\, you will learn about the Crosby Scholars Senior Program requirements and how Crosby Scholars supports you through the college admission and financial aid processes\, including your enrollment decision! We will also discuss the Crosby Scholars Senior Advisor Program in depth so that you are well equipped to choose wisely when selecting a Senior Advisor. \nRegistration is required in your Crosby Scholars Student Portal. Given the significant role they play in the college journey\, parents are strongly encouraged to watch the webinar along with their student; however\, parents cannot watch the webinar on a student’s behalf. Please register as soon as possible in order to attend the webinar of your choice. \nThe webinar requires the following: \n\nComputer\nInternet Connection\nEmail address to log in to the presentation\nPhone or Computer Speakers\n\nYou must log in to the webinar (at home or any place with Internet access) on time\, watch the entire webinar\, and submit a confirmation of attendance in order to receive credit for attending. You will receive a link and login instructions prior to the beginning of the webinar via email. If you have questions after 5:00pm Tuesday\, April 20th (the day before the webinar)\, please email us at seniorprogram@crosbyscholars.org
URL:https://www.crosbyscholars.org/event/think-like-a-senior-juniors/
END:VEVENT
BEGIN:VEVENT
DTSTART;TZID=America/New_York:20210513T180000
DTEND;TZID=America/New_York:20210513T190000
DTSTAMP:20260421T194615
CREATED:20210413T193323Z
LAST-MODIFIED:20210413T195012Z
UID:6608-1620928800-1620932400@www.crosbyscholars.org
SUMMARY:Think Like a Senior (Juniors)
DESCRIPTION:The final junior year program requirement is to attend ONE Think Like a Senior session! \nDuring the webinar\, you will learn about the Crosby Scholars Senior Program requirements and how Crosby Scholars supports you through the college admission and financial aid processes\, including your enrollment decision! We will also discuss the Crosby Scholars Senior Advisor Program in depth so that you are well equipped to choose wisely when selecting a Senior Advisor. \nRegistration is required in your Crosby Scholars Student Portal. Given the significant role they play in the college journey\, parents are strongly encouraged to watch the webinar along with their student; however\, parents cannot watch the webinar on a student’s behalf. Please register as soon as possible in order to attend the webinar of your choice. \nThe webinar requires the following: \n\nComputer\nInternet Connection\nEmail address to log in to the presentation\nPhone or Computer Speakers\n\nYou must log in to the webinar (at home or any place with Internet access) on time\, watch the entire webinar\, and submit a confirmation of attendance in order to receive credit for attending. You will receive a link and login instructions prior to the beginning of the webinar via email. If you have questions after 5:00pm Tuesday\, April 20th (the day before the webinar)\, please email us at seniorprogram@crosbyscholars.org
URL:https://www.crosbyscholars.org/event/think-like-a-senior-juniors-2/
END:VEVENT
BEGIN:VEVENT
DTSTART;TZID=America/New_York:20210515T100000
DTEND;TZID=America/New_York:20210515T110000
DTSTAMP:20260421T194615
CREATED:20210413T193409Z
LAST-MODIFIED:20210413T194952Z
UID:6610-1621072800-1621076400@www.crosbyscholars.org
SUMMARY:Think Like a Senior (Juniors)
DESCRIPTION:The final junior year program requirement is to attend ONE Think Like a Senior session! \nDuring the webinar\, you will learn about the Crosby Scholars Senior Program requirements and how Crosby Scholars supports you through the college admission and financial aid processes\, including your enrollment decision! We will also discuss the Crosby Scholars Senior Advisor Program in depth so that you are well equipped to choose wisely when selecting a Senior Advisor. \nRegistration is required in your Crosby Scholars Student Portal. Given the significant role they play in the college journey\, parents are strongly encouraged to watch the webinar along with their student; however\, parents cannot watch the webinar on a student’s behalf. Please register as soon as possible in order to attend the webinar of your choice. \nThe webinar requires the following: \n\nComputer\nInternet Connection\nEmail address to log in to the presentation\nPhone or Computer Speakers\n\nYou must log in to the webinar (at home or any place with Internet access) on time\, watch the entire webinar\, and submit a confirmation of attendance in order to receive credit for attending. You will receive a link and login instructions prior to the beginning of the webinar via email. If you have questions after 5:00pm Tuesday\, April 20th (the day before the webinar)\, please email us at seniorprogram@crosbyscholars.org
URL:https://www.crosbyscholars.org/event/think-like-a-senior-juniors-3/
END:VEVENT
END:VCALENDAR