BEGIN:VCALENDAR
VERSION:2.0
PRODID:-//Crosby Scholars Forsyth - ECPv6.15.13.1//NONSGML v1.0//EN
CALSCALE:GREGORIAN
METHOD:PUBLISH
X-ORIGINAL-URL:https://www.crosbyscholars.org
X-WR-CALDESC:Events for Crosby Scholars Forsyth
REFRESH-INTERVAL;VALUE=DURATION:PT1H
X-Robots-Tag:noindex
X-PUBLISHED-TTL:PT1H
BEGIN:VTIMEZONE
TZID:America/New_York
BEGIN:DAYLIGHT
TZOFFSETFROM:-0500
TZOFFSETTO:-0400
TZNAME:EDT
DTSTART:20200308T070000
END:DAYLIGHT
BEGIN:STANDARD
TZOFFSETFROM:-0400
TZOFFSETTO:-0500
TZNAME:EST
DTSTART:20201101T060000
END:STANDARD
BEGIN:DAYLIGHT
TZOFFSETFROM:-0500
TZOFFSETTO:-0400
TZNAME:EDT
DTSTART:20210314T070000
END:DAYLIGHT
BEGIN:STANDARD
TZOFFSETFROM:-0400
TZOFFSETTO:-0500
TZNAME:EST
DTSTART:20211107T060000
END:STANDARD
BEGIN:DAYLIGHT
TZOFFSETFROM:-0500
TZOFFSETTO:-0400
TZNAME:EDT
DTSTART:20220313T070000
END:DAYLIGHT
BEGIN:STANDARD
TZOFFSETFROM:-0400
TZOFFSETTO:-0500
TZNAME:EST
DTSTART:20221106T060000
END:STANDARD
END:VTIMEZONE
BEGIN:VEVENT
DTSTART;TZID=America/New_York:20210210T100000
DTEND;TZID=America/New_York:20210210T113000
DTSTAMP:20260422T005225
CREATED:20210204T202429Z
LAST-MODIFIED:20210204T202429Z
UID:6340-1612951200-1612956600@www.crosbyscholars.org
SUMMARY:ACT Boot Camp for Juniors (English/Science Test Prep)
DESCRIPTION:Taking the time to study before college admissions exams will ensure you are prepared to perform your best on test day. Attending Crosby Scholars test prep sessions is a small time commitment with a potentially large payoff. Understanding the format of the test and how to approach the questions boosts confidence and allows for a calm\, measured approach on test day. Begin with attending the FREE test prep sessions\, take these opportunities seriously\, and appreciate the benefits of your efforts. This session will be hosted via Zoom. \nThe ACT Boot Camp:  English and Science \nSeating is limited to the first 100 Crosby Scholars Juniors!  Register in your student portal. This event is only for students. \nThis boot camp is hosted by CapEd. Additional FREE test prep sessions will be offered throughout the spring and summer. \n(There will be a Math and Reading Boot Camp offered on February 17th. You must register separately to attend that boot camp.) \nTaking the ACT is more than just showing up on test day with pencils and a calculator and hoping for the best. It is a process best begun with formal preparation that includes reviewing test-taking strategies and completing a practice exam with those tips in hand. Preparing well can produce score results that mean taking fewer standardized tests\, saving money\, time\, and energy for other aspects of the college admission process. 
URL:https://www.crosbyscholars.org/event/act-boot-camp-for-juniors-english-science-test-prep/
END:VEVENT
BEGIN:VEVENT
DTSTART;TZID=America/New_York:20210210T160000
DTEND;TZID=America/New_York:20210210T170000
DTSTAMP:20260422T005225
CREATED:20210203T214739Z
LAST-MODIFIED:20210203T214757Z
UID:6307-1612972800-1612976400@www.crosbyscholars.org
SUMMARY:College-A-Day: Johnson C. Smith (Juniors)
DESCRIPTION:Visiting your possible future home for your next educational journey is an exciting time as you consider where to apply for your collegiate career. However\, because of campus closures\, we have shifted our college tours to a virtual platform. Join us throughout the day on February 10th on social media and webinar\, to learn more about Johnson C. Smith! Throughout the day we will post new Instagram stories covering a variety of topics on college life at Johnson C. Smith. We will also host a Live College Panel where you will have the opportunity to ask your specific questions to current college students. Registration is required in your portal to attend the panel. \nWe know that nothing can replace the experience of physically touring a college campus\, but we do hope we can help you connect with a variety of schools throughout this year through a virtual platform. Email us at seniorprogram@crosbyscholars.org if you have any questions. \n“College A Day”: Johnson C. Smith —  Wednesday\, February 10th\, 2021 at 4:00 PM \n*The only activity that requires a registration is the LIVE COLLEGE PANEL at 4PM. The Instagram stories will go live throughout the day. They will be available to watch at any time after the launch. Be sure to watch them all to learn as much as you can about the school. Engage with us on social media to let us know you have watched the videos! We are not requiring attendance for the Instagram stories\, but we would like to know if you participated! \nPlease reach out to seniorprogram@crosbyscholars.org with any questions. \nFuture College-A-Day Events:  \nFayetteville State University – February 10th @ 4 pm \nSalem College – March 12th @ 4 pm \nMeredith College- March 24th @ 4 pm \nUNCW – April 14th @ 4 pm \nWestern Carolina – April 30th @ 4 pm
URL:https://www.crosbyscholars.org/event/college-a-day-johnson-c-smith-juniors/
END:VEVENT
BEGIN:VEVENT
DTSTART;TZID=America/New_York:20210211T180000
DTEND;TZID=America/New_York:20210211T190000
DTSTAMP:20260422T005225
CREATED:20210202T184128Z
LAST-MODIFIED:20210202T184330Z
UID:6294-1613066400-1613070000@www.crosbyscholars.org
SUMMARY:Decoding the ACT: Why Your Score Matters WEBINAR (Juniors)
DESCRIPTION:Juniors in North Carolina will take the ACT Plus Writing test on February 23  during school\, for FREE. Register to attend the ACT Prep webinar to learn how the practice test can help you prepare for the ACT\, to hear general information about the exam\, learn test-taking strategies\, and to learn how colleges use your scores in recruitment\, admission decision-making\, and scholarship consideration.  Parents are encouraged to watch the Zoom webinar with their students. \nTo receive event reminders and program updates via text messages\, add your cell phone number below.  \nDate: February 11 \nTime: 6:00-7:00pm \nLocation: Zoom Webinar: online only – Registration required in student portal \nParents are encouraged to watch the webinar with their students. \nThis webinar will require the following: \n\nInternet Connection\nComputer/Tablet/iPad\nEmail address to log in to the presentation\nSpeakers\n\nYou must be able to meet all the above listed criteria to participate in the webinar. If you cannot meet these requirements please do not register to participate in this webinar. You must log in to the webinar on time. You will receive a link and login instructions via email on February 11 prior to the start of the webinar. \nThe ACT is an entrance exam used by many colleges as one criterion in deciding whom to admit.  The test has four sections with multiple-choice questions:  Reading\, Math\, Science\, and English\, and includes an optional 40-minute writing test.  Students typically take the ACT for the first time during the fall or spring of the junior year of high school.  Juniors in North Carolina have the privilege of sitting for the test during the school day at their home high school\, and Crosby Scholars wants to help them take full advantage of this opportunity.
URL:https://www.crosbyscholars.org/event/decoding-the-act-why-your-score-matters-juniors/
END:VEVENT
BEGIN:VEVENT
DTSTART;TZID=America/New_York:20210215T170000
DTEND;TZID=America/New_York:20210215T180000
DTSTAMP:20260422T005225
CREATED:20210203T170453Z
LAST-MODIFIED:20210203T170453Z
UID:6304-1613408400-1613412000@www.crosbyscholars.org
SUMMARY:ACT Boot Camp for Juniors (English/Reading Test-Taking Strategies)
DESCRIPTION:Taking the time to study before college admissions exams will ensure you are prepared to perform your best on test day. Attending Crosby Scholars test prep sessions is a small time commitment with a potentially large payoff. Understanding the format of the test and how to approach the questions boosts confidence and allows for a calm\, measured approach on test day. Begin with attending the FREE test prep sessions\, take these opportunities seriously\, and appreciate the benefits of your efforts. This session will be hosted via Zoom. \nThe ACT Boot Camp I:  English and Reading \nSeating is limited to the first 100 Crosby Scholars Juniors!  Register in your Crosby Scholars Student Portal to receive the Zoom link. \nThere will be a Math and Science session offered on February 18th. You must register separately to attend that session. This event is only for students. \nTaking the ACT is more than just showing up on test day with pencils and a calculator and hoping for the best. It is a process best begun with formal preparation that includes reviewing test-taking strategies and completing a practice exam with those tips in hand. Preparing well can produce score results that mean taking fewer standardized tests\, saving money\, time\, and energy for other aspects of the college admission process. \nThese boot camps are hosted by Owens Test Prep. Additional FREE test prep sessions will be offered throughout the spring and summer.
URL:https://www.crosbyscholars.org/event/act-boot-camp-for-juniors-english-reading-test-taking-strategies/
END:VEVENT
BEGIN:VEVENT
DTSTART;TZID=America/New_York:20210217T100000
DTEND;TZID=America/New_York:20210217T113000
DTSTAMP:20260422T005225
CREATED:20210204T202634Z
LAST-MODIFIED:20210204T202634Z
UID:6342-1613556000-1613561400@www.crosbyscholars.org
SUMMARY:ACT Boot Camp for Juniors (Math/Reading Test Prep)
DESCRIPTION:Taking the time to study before college admissions exams will ensure you are prepared to perform your best on test day. Attending Crosby Scholars test prep sessions is a small time commitment with a potentially large payoff. Understanding the format of the test and how to approach the questions boosts confidence and allows for a calm\, measured approach on test day. Begin with attending the FREE test prep sessions\, take these opportunities seriously\, and appreciate the benefits of your efforts. This session will be hosted via Zoom. \nThe ACT Boot Camp:  Math and Reading \nSeating is limited to the first 100 Crosby Scholars Juniors!  Register your student portal. This event is only for students. \nThis boot camp is hosted by CapEd. Additional FREE test prep sessions will be offered throughout the spring and summer. \n(There will be a English and Science Boot Camp offered on February 10th. You must register separately to attend that boot camp.) \nTaking the ACT is more than just showing up on test day with pencils and a calculator and hoping for the best. It is a process best begun with formal preparation that includes reviewing test-taking strategies and completing a practice exam with those tips in hand. Preparing well can produce score results that mean taking fewer standardized tests\, saving money\, time\, and energy for other aspects of the college admission process. 
URL:https://www.crosbyscholars.org/event/act-boot-camp-for-juniors-math-reading-test-prep/
END:VEVENT
BEGIN:VEVENT
DTSTART;TZID=America/New_York:20210218T170000
DTEND;TZID=America/New_York:20210218T180000
DTSTAMP:20260422T005225
CREATED:20210203T170339Z
LAST-MODIFIED:20210203T170339Z
UID:6302-1613667600-1613671200@www.crosbyscholars.org
SUMMARY:ACT Boot Camp for Juniors (Math/Science Test-Taking Strategies)
DESCRIPTION:Taking the time to study before college admissions exams will ensure you are prepared to perform your best on test day. Attending Crosby Scholars test prep sessions is a small time commitment with a potentially large payoff. Understanding the format of the test and how to approach the questions boosts confidence and allows for a calm\, measured approach on test day. Begin with attending the FREE test prep sessions\, take these opportunities seriously\, and appreciate the benefits of your efforts. This session will be hosted via Zoom. \nThe ACT Boot Camp II:  Math and Science \nSeating is limited to the first 100 Crosby Scholars Juniors!  Register in your Crosby Scholars Student Portal to receive the Zoom link. \nThere will be an English and Reading session offered on February 15th. You must register separately to attend that session. This event is only for students.  \nTaking the ACT is more than just showing up on test day with pencils and a calculator and hoping for the best. It is a process best begun with formal preparation that includes reviewing test-taking strategies and completing a practice exam with those tips in hand. Preparing well can produce score results that mean taking fewer standardized tests\, saving money\, time\, and energy for other aspects of the college admission process. \nThese boot camps are hosted by Owens Test Prep. Additional FREE test prep sessions will be offered throughout the spring and summer.
URL:https://www.crosbyscholars.org/event/act-boot-camp-for-juniors-math-science-test-taking-strategies/
END:VEVENT
BEGIN:VEVENT
DTSTART;TZID=America/New_York:20210226T160000
DTEND;TZID=America/New_York:20210226T170000
DTSTAMP:20260422T005225
CREATED:20210203T214919Z
LAST-MODIFIED:20210203T215035Z
UID:6309-1614355200-1614358800@www.crosbyscholars.org
SUMMARY:College-A-Day: Fayetteville State University (Juniors)
DESCRIPTION:Visiting your possible future home for your next educational journey is an exciting time as you consider where to apply for your collegiate career. However\, because of campus closures\, we have shifted our college tours to a virtual platform. Join us throughout the day on February 26th on social media and webinar\, to learn more about Fayetteville State University! Throughout the day we will post new Instagram stories covering a variety of topics on college life at Fayetteville State. We will also host a Live College Panel where you will have the opportunity to ask your specific questions to current college students. Registration is required in your student portal to attend the live panel. \nWe know that nothing can replace the experience of physically touring a college campus\, but we do hope we can help you connect with a variety of schools throughout this year through a virtual platform. Email us at seniorprogram@crosbyscholars.org if you have any questions. \n“College A Day”: Fayetteville State University —  Friday\, February 26th\, 2021 at 4:00 PM \n*The only activity that requires a registration is the LIVE COLLEGE PANEL at 4PM. The Instagram stories will go live throughout the day. They will be available to watch at any time after the launch. Be sure to watch them all to learn as much as you can about the school. Engage with us on social media to let us know you have watched the videos! We are not requiring attendance for the Instagram stories\, but we would like to know if you participated! \nPlease reach out to seniorprogram@crosbyscholars.org with any questions. \nFuture College-A-Day Events:  \nSalem College – March 12th @ 4 pm \nMeredith College- March 24th @ 4 pm \nUNCW – April 14th @ 4 pm \nWestern Carolina – April 30th @ 4 pm
URL:https://www.crosbyscholars.org/event/college-a-day-fayetteville-state-university/
END:VEVENT
END:VCALENDAR