BEGIN:VCALENDAR
VERSION:2.0
PRODID:-//Crosby Scholars Forsyth - ECPv6.15.13.1//NONSGML v1.0//EN
CALSCALE:GREGORIAN
METHOD:PUBLISH
X-ORIGINAL-URL:https://www.crosbyscholars.org
X-WR-CALDESC:Events for Crosby Scholars Forsyth
REFRESH-INTERVAL;VALUE=DURATION:PT1H
X-Robots-Tag:noindex
X-PUBLISHED-TTL:PT1H
BEGIN:VTIMEZONE
TZID:America/New_York
BEGIN:DAYLIGHT
TZOFFSETFROM:-0500
TZOFFSETTO:-0400
TZNAME:EDT
DTSTART:20190310T070000
END:DAYLIGHT
BEGIN:STANDARD
TZOFFSETFROM:-0400
TZOFFSETTO:-0500
TZNAME:EST
DTSTART:20191103T060000
END:STANDARD
BEGIN:DAYLIGHT
TZOFFSETFROM:-0500
TZOFFSETTO:-0400
TZNAME:EDT
DTSTART:20200308T070000
END:DAYLIGHT
BEGIN:STANDARD
TZOFFSETFROM:-0400
TZOFFSETTO:-0500
TZNAME:EST
DTSTART:20201101T060000
END:STANDARD
BEGIN:DAYLIGHT
TZOFFSETFROM:-0500
TZOFFSETTO:-0400
TZNAME:EDT
DTSTART:20210314T070000
END:DAYLIGHT
BEGIN:STANDARD
TZOFFSETFROM:-0400
TZOFFSETTO:-0500
TZNAME:EST
DTSTART:20211107T060000
END:STANDARD
END:VTIMEZONE
BEGIN:VEVENT
DTSTART;TZID=America/New_York:20201215T163000
DTEND;TZID=America/New_York:20201215T173000
DTSTAMP:20260422T044225
CREATED:20201201T200406Z
LAST-MODIFIED:20201201T200406Z
UID:6084-1608049800-1608053400@www.crosbyscholars.org
SUMMARY:Junior Academy - Think Like a Junior
DESCRIPTION:We are jumpstarting the junior year with a special presentation “Think Like a Junior” to help you prepare for all of the Crosby Scholars requirements this upcoming year and to better prepare you for the application process that will begin sooner than you think! This session is required for all juniors in the program. \nDate: Tuesday\, December 15 \nTime: 4:30 PM \nLocation: VIRTUAL; registered students will receive the meeting link 24 hours before the presentation. \nAt this time all Think Like a Junior Sessions will be a virtual presentation. \nDuring the webinar\, you will learn about the Crosby Scholars Junior Program requirements and how Crosby Scholars supports you through the college admission and financial aid processes\, including your enrollment decision! You may be thinking it is too early to start preparing for this process\, but we assure you\, it is never to early to begin planning for your senior year and beyond! \nRegistration is required in your student portal\, and is limited to 300 participants. Given the significant role they play in the college journey\, parents are strongly encouraged to watch the webinar along with their student; however\, parents cannot watch the webinar on a student’s behalf. Please register as soon as possible in order to attend the webinar! \nPlease download and read the Webinar Attendance Agreement before registering. \nThe webinar requires the following: \n\nComputer\nInternet Connection\nEmail address to log in to the presentation\nPhone or Computer Speakers\n\nYou must log in to the webinar (at home or any place with Internet access) on time\, watch the entire webinar\, and submit a confirmation of attendance in order to receive credit for attending. You will receive a link and login instructions prior to the beginning of the webinar via email. If you have questions after 5:00pm on the day of the webinar\, please call the Crosby Scholars Program’s cell at 336-671-5494. \nMake sure to answer the two questions that follow the registration information–including ordering your FREE Crosby Scholars Class of 2022 t-shirt — before submitting your registration.
URL:https://www.crosbyscholars.org/event/junior-academy-think-like-a-junior-13/
END:VEVENT
END:VCALENDAR