BEGIN:VCALENDAR
VERSION:2.0
PRODID:-//Crosby Scholars Forsyth - ECPv6.15.13.1//NONSGML v1.0//EN
CALSCALE:GREGORIAN
METHOD:PUBLISH
X-ORIGINAL-URL:https://www.crosbyscholars.org
X-WR-CALDESC:Events for Crosby Scholars Forsyth
REFRESH-INTERVAL;VALUE=DURATION:PT1H
X-Robots-Tag:noindex
X-PUBLISHED-TTL:PT1H
BEGIN:VTIMEZONE
TZID:America/New_York
BEGIN:DAYLIGHT
TZOFFSETFROM:-0500
TZOFFSETTO:-0400
TZNAME:EDT
DTSTART:20190310T070000
END:DAYLIGHT
BEGIN:STANDARD
TZOFFSETFROM:-0400
TZOFFSETTO:-0500
TZNAME:EST
DTSTART:20191103T060000
END:STANDARD
BEGIN:DAYLIGHT
TZOFFSETFROM:-0500
TZOFFSETTO:-0400
TZNAME:EDT
DTSTART:20200308T070000
END:DAYLIGHT
BEGIN:STANDARD
TZOFFSETFROM:-0400
TZOFFSETTO:-0500
TZNAME:EST
DTSTART:20201101T060000
END:STANDARD
BEGIN:DAYLIGHT
TZOFFSETFROM:-0500
TZOFFSETTO:-0400
TZNAME:EDT
DTSTART:20210314T070000
END:DAYLIGHT
BEGIN:STANDARD
TZOFFSETFROM:-0400
TZOFFSETTO:-0500
TZNAME:EST
DTSTART:20211107T060000
END:STANDARD
END:VTIMEZONE
BEGIN:VEVENT
DTSTART;TZID=America/New_York:20201111T150000
DTEND;TZID=America/New_York:20201111T160000
DTSTAMP:20260422T062642
CREATED:20201026T152624Z
LAST-MODIFIED:20201026T152624Z
UID:5834-1605106800-1605110400@www.crosbyscholars.org
SUMMARY:Junior Academy - Think Like a Junior
DESCRIPTION:We are jumpstarting the junior year with a special presentation “Think Like a Junior” to help you prepare for all of the Crosby Scholars requirements this upcoming year and to better prepare you for the application process that will begin sooner than you think! This session is required for all juniors in the program. \nDate: Wednesday\, November 11 \nTime: 3:00 PM \nLocation: VIRTUAL; registered students will receive the meeting link 24 hours before the presentation. \nAt this time all Think Like a Junior Sessions will be a virtual presentation. \nDuring the webinar\, you will learn about the Crosby Scholars Junior Program requirements and how Crosby Scholars supports you through the college admission and financial aid processes\, including your enrollment decision! You may be thinking it is too early to start preparing for this process\, but we assure you\, it is never to early to begin planning for your senior year and beyond! \nRegistration is required in your student portal\, and is limited to 300 participants. Given the significant role they play in the college journey\, parents are strongly encouraged to watch the webinar along with their student; however\, parents cannot watch the webinar on a student’s behalf. Please register as soon as possible in order to attend the webinar! \nPlease download and read the Webinar Attendance Agreement before registering. \nThe webinar requires the following: \n\nComputer\nInternet Connection\nEmail address to log in to the presentation\nPhone or Computer Speakers\n\nYou must log in to the webinar (at home or any place with Internet access) on time\, watch the entire webinar\, and submit a confirmation of attendance in order to receive credit for attending. You will receive a link and login instructions prior to the beginning of the webinar via email. If you have questions after 5:00pm on the day of the webinar\, please call the Crosby Scholars Program’s cell at 336-671-5494. \nMake sure to answer the two questions that follow the registration information–including ordering your FREE Crosby Scholars Class of 2022 t-shirt — before submitting your registration.
URL:https://www.crosbyscholars.org/event/junior-academy-think-like-a-junior-10/
END:VEVENT
BEGIN:VEVENT
DTSTART;VALUE=DATE:20201113
DTEND;VALUE=DATE:20201114
DTSTAMP:20260422T062642
CREATED:20201112T165731Z
LAST-MODIFIED:20201112T170028Z
UID:6013-1605225600-1605311999@www.crosbyscholars.org
SUMMARY:College-A-Day: Forsyth Tech (Juniors & Seniors)
DESCRIPTION:Visiting your possible future home for your next educational journey is an exciting time as you consider where to apply for your collegiate career. However\, because of campus closures\, we have shifted our college tours to a virtual platform. Join us throughout the day on November 13th on social media and webinar\, to learn more about Forsyth Tech! Throughout the day we will post new Instagram stories covering a variety of topics on college life at Forsyth Tech. We will also host a Live College Panel where you will have the opportunity to ask your specific questions to current college students. \nWe know that nothing can replace the experience of physically touring a college campus\, but we do hope we can help you connect with a variety of schools throughout this year through a virtual platform.  Email us at seniorprogram@crosbyscholars.org if you have any questions. \n“College A Day”: Forsyth Tech —  November 13\, 2020- 4PM \n*The only activity that requires a registration is the LIVE COLLEGE PANEL at 4PM. The Instagram stories will go live throughout the day. They will be available to watch at any time after the launch. Be sure to watch them all to learn as much as you can about the school. Engage with us on social media to let us know you have watched the videos! We are not requiring attendance for the Instagram stories\, but we would like to know if you participated! \nPlease reach out to seniorprogram@crosbyscholars.org with any questions.
URL:https://www.crosbyscholars.org/event/college-a-day-forsyth-tech/
END:VEVENT
BEGIN:VEVENT
DTSTART;TZID=America/New_York:20201119T183000
DTEND;TZID=America/New_York:20201119T193000
DTSTAMP:20260422T062642
CREATED:20201026T152736Z
LAST-MODIFIED:20201026T152736Z
UID:5836-1605810600-1605814200@www.crosbyscholars.org
SUMMARY:Junior Academy - Think Like a Junior
DESCRIPTION:We are jumpstarting the junior year with a special presentation “Think Like a Junior” to help you prepare for all of the Crosby Scholars requirements this upcoming year and to better prepare you for the application process that will begin sooner than you think! This session is required for all juniors in the program. \nDate: Thursday\, November 19 \nTime: 6:30 PM \nLocation: VIRTUAL; registered students will receive the meeting link 24 hours before the presentation. \nAt this time all Think Like a Junior Sessions will be a virtual presentation. \nDuring the webinar\, you will learn about the Crosby Scholars Junior Program requirements and how Crosby Scholars supports you through the college admission and financial aid processes\, including your enrollment decision! You may be thinking it is too early to start preparing for this process\, but we assure you\, it is never to early to begin planning for your senior year and beyond! \nRegistration is required in your student portal\, and is limited to 300 participants. Given the significant role they play in the college journey\, parents are strongly encouraged to watch the webinar along with their student; however\, parents cannot watch the webinar on a student’s behalf. Please register as soon as possible in order to attend the webinar! \nPlease download and read the Webinar Attendance Agreement before registering. \nThe webinar requires the following: \n\nComputer\nInternet Connection\nEmail address to log in to the presentation\nPhone or Computer Speakers\n\nYou must log in to the webinar (at home or any place with Internet access) on time\, watch the entire webinar\, and submit a confirmation of attendance in order to receive credit for attending. You will receive a link and login instructions prior to the beginning of the webinar via email. If you have questions after 5:00pm on the day of the webinar\, please call the Crosby Scholars Program’s cell at 336-671-5494. \nMake sure to answer the two questions that follow the registration information–including ordering your FREE Crosby Scholars Class of 2022 t-shirt — before submitting your registration.
URL:https://www.crosbyscholars.org/event/junior-academy-think-like-a-junior-11/
END:VEVENT
BEGIN:VEVENT
DTSTART;TZID=America/New_York:20201120T080000
DTEND;TZID=America/New_York:20201120T170000
DTSTAMP:20260422T062643
CREATED:20201112T165911Z
LAST-MODIFIED:20201112T170413Z
UID:6015-1605859200-1605891600@www.crosbyscholars.org
SUMMARY:College-A-Day: WSSU (Juniors & Seniors)
DESCRIPTION:Visiting your possible future home for your next educational journey is an exciting time as you consider where to apply for your collegiate career. However\, because of campus closures\, we have shifted our college tours to a virtual platform. Join us throughout the day on November 20th on social media and webinar\, to learn more about WSSU! Throughout the day we will post new Instagram stories covering a variety of topics on college life at WSSU. We will also host a Live College Panel where you will have the opportunity to ask your specific questions to current college students. \nWe know that nothing can replace the experience of physically touring a college campus\, but we do hope we can help you connect with a variety of schools throughout this year through a virtual platform. Email us at seniorprogram@crosbyscholars.org if you have any questions. \n“College A Day”: WSSU —  November 20th\, 2020- 4PM \n*The only activity that requires a registration is the LIVE COLLEGE PANEL at 4PM. The Instagram stories will go live throughout the day. They will be available to watch at any time after the launch. Be sure to watch them all to learn as much as you can about the school. Engage with us on social media to let us know you have watched the videos! We are not requiring attendance for the Instagram stories\, but we would like to know if you participated! \nPlease reach out to seniorprogram@crosbyscholars.org with any questions.
URL:https://www.crosbyscholars.org/event/college-a-day-wssu/
END:VEVENT
BEGIN:VEVENT
DTSTART;TZID=America/New_York:20201123T163000
DTEND;TZID=America/New_York:20201123T173000
DTSTAMP:20260422T062643
CREATED:20201026T152847Z
LAST-MODIFIED:20201026T152847Z
UID:5838-1606149000-1606152600@www.crosbyscholars.org
SUMMARY:Junior Academy - Think Like a Junior
DESCRIPTION:We are jumpstarting the junior year with a special presentation “Think Like a Junior” to help you prepare for all of the Crosby Scholars requirements this upcoming year and to better prepare you for the application process that will begin sooner than you think! This session is required for all juniors in the program. \nDate: Monday\, November 23 \nTime: 4:30 PM \nLocation: VIRTUAL; registered students will receive the meeting link 24 hours before the presentation. \nAt this time all Think Like a Junior Sessions will be a virtual presentation. \nDuring the webinar\, you will learn about the Crosby Scholars Junior Program requirements and how Crosby Scholars supports you through the college admission and financial aid processes\, including your enrollment decision! You may be thinking it is too early to start preparing for this process\, but we assure you\, it is never to early to begin planning for your senior year and beyond! \nRegistration is required in your student portal\, and is limited to 300 participants. Given the significant role they play in the college journey\, parents are strongly encouraged to watch the webinar along with their student; however\, parents cannot watch the webinar on a student’s behalf. Please register as soon as possible in order to attend the webinar! \nPlease download and read the Webinar Attendance Agreement before registering. \nThe webinar requires the following: \n\nComputer\nInternet Connection\nEmail address to log in to the presentation\nPhone or Computer Speakers\n\nYou must log in to the webinar (at home or any place with Internet access) on time\, watch the entire webinar\, and submit a confirmation of attendance in order to receive credit for attending. You will receive a link and login instructions prior to the beginning of the webinar via email. If you have questions after 5:00pm on the day of the webinar\, please call the Crosby Scholars Program’s cell at 336-671-5494. \nMake sure to answer the two questions that follow the registration information–including ordering your FREE Crosby Scholars Class of 2022 t-shirt — before submitting your registration.
URL:https://www.crosbyscholars.org/event/junior-academy-think-like-a-junior-12/
END:VEVENT
END:VCALENDAR