BEGIN:VCALENDAR
VERSION:2.0
PRODID:-//Crosby Scholars Forsyth - ECPv6.15.13.1//NONSGML v1.0//EN
CALSCALE:GREGORIAN
METHOD:PUBLISH
X-ORIGINAL-URL:https://www.crosbyscholars.org
X-WR-CALDESC:Events for Crosby Scholars Forsyth
REFRESH-INTERVAL;VALUE=DURATION:PT1H
X-Robots-Tag:noindex
X-PUBLISHED-TTL:PT1H
BEGIN:VTIMEZONE
TZID:America/New_York
BEGIN:DAYLIGHT
TZOFFSETFROM:-0500
TZOFFSETTO:-0400
TZNAME:EDT
DTSTART:20190310T070000
END:DAYLIGHT
BEGIN:STANDARD
TZOFFSETFROM:-0400
TZOFFSETTO:-0500
TZNAME:EST
DTSTART:20191103T060000
END:STANDARD
BEGIN:DAYLIGHT
TZOFFSETFROM:-0500
TZOFFSETTO:-0400
TZNAME:EDT
DTSTART:20200308T070000
END:DAYLIGHT
BEGIN:STANDARD
TZOFFSETFROM:-0400
TZOFFSETTO:-0500
TZNAME:EST
DTSTART:20201101T060000
END:STANDARD
BEGIN:DAYLIGHT
TZOFFSETFROM:-0500
TZOFFSETTO:-0400
TZNAME:EDT
DTSTART:20210314T070000
END:DAYLIGHT
BEGIN:STANDARD
TZOFFSETFROM:-0400
TZOFFSETTO:-0500
TZNAME:EST
DTSTART:20211107T060000
END:STANDARD
END:VTIMEZONE
BEGIN:VEVENT
DTSTART;TZID=America/New_York:20201006T183000
DTEND;TZID=America/New_York:20201006T193000
DTSTAMP:20260422T082840
CREATED:20200924T174024Z
LAST-MODIFIED:20200924T174024Z
UID:5644-1602009000-1602012600@www.crosbyscholars.org
SUMMARY:Junior Academy - Think Like a Junior
DESCRIPTION:We are jumpstarting the junior year with a special presentation “Think Like a Junior” to help you prepare for all of the Crosby Scholars requirements this upcoming year and to better prepare you for the application process that will begin sooner than you think! This session is required for all juniors in the program. \nDate: Tuesday\, October 6 \nTime: 6:30 PM \nLocation: VIRTUAL; registered students will receive the meeting link 24 hours before the presentation. \nAt this time all Think Like a Junior Sessions will be a virtual presentation. \nDuring the webinar\, you will learn about the Crosby Scholars Junior Program requirements and how Crosby Scholars supports you through the college admission and financial aid processes\, including your enrollment decision! You may be thinking it is too early to start preparing for this process\, but we assure you\, it is never to early to begin planning for your senior year and beyond! \nRegistration is required in your student portal\, and is limited to 300 participants. Given the significant role they play in the college journey\, parents are strongly encouraged to watch the webinar along with their student; however\, parents cannot watch the webinar on a student’s behalf. Please register as soon as possible in order to attend the webinar! \nPlease download and read the Webinar Attendance Agreement before registering. \nThe webinar requires the following: \n\nComputer\nInternet Connection\nEmail address to log in to the presentation\nPhone or Computer Speakers\n\nYou must log in to the webinar (at home or any place with Internet access) on time\, watch the entire webinar\, and submit a confirmation of attendance in order to receive credit for attending. You will receive a link and login instructions prior to the beginning of the webinar via email. If you have questions after 5:00pm on the day of the webinar\, please call the Crosby Scholars Program’s cell at 336-671-5494. \nMake sure to answer the two questions that follow the registration information–including ordering your FREE Crosby Scholars Class of 2022 t-shirt — before submitting your registration.
URL:https://www.crosbyscholars.org/event/junior-academy-think-like-a-junior-2/
END:VEVENT
BEGIN:VEVENT
DTSTART;TZID=America/New_York:20201009T150000
DTEND;TZID=America/New_York:20201009T160000
DTSTAMP:20260422T082840
CREATED:20200924T174339Z
LAST-MODIFIED:20200924T174339Z
UID:5646-1602255600-1602259200@www.crosbyscholars.org
SUMMARY:Junior Academy - Think Like a Junior
DESCRIPTION:We are jumpstarting the junior year with a special presentation “Think Like a Junior” to help you prepare for all of the Crosby Scholars requirements this upcoming year and to better prepare you for the application process that will begin sooner than you think! This session is required for all juniors in the program. \nDate: Friday\, October 9 \nTime: 3:00 PM \nLocation: VIRTUAL; registered students will receive the meeting link 24 hours before the presentation. \nAt this time all Think Like a Junior Sessions will be a virtual presentation. \nDuring the webinar\, you will learn about the Crosby Scholars Junior Program requirements and how Crosby Scholars supports you through the college admission and financial aid processes\, including your enrollment decision! You may be thinking it is too early to start preparing for this process\, but we assure you\, it is never to early to begin planning for your senior year and beyond! \nRegistration is required in your student portal\, and is limited to 300 participants. Given the significant role they play in the college journey\, parents are strongly encouraged to watch the webinar along with their student; however\, parents cannot watch the webinar on a student’s behalf. Please register as soon as possible in order to attend the webinar. \nPlease download and read the Webinar Attendance Agreement before registering. \nThe webinar requires the following: \n\nComputer\nInternet Connection\nEmail address to log in to the presentation\nPhone or Computer Speakers\n\nYou must log in to the webinar (at home or any place with Internet access) on time\, watch the entire webinar\, and submit a confirmation of attendance in order to receive credit for attending. You will receive a link and login instructions prior to the beginning of the webinar via email. If you have questions after 5:00pm on the day of the webinar\, please call the Crosby Scholars Program’s cell at 336-671-5494. \nMake sure to answer the two questions that follow the registration information–including ordering your FREE Crosby Scholars Class of 2022 t-shirt — before submitting your registration.
URL:https://www.crosbyscholars.org/event/junior-academy-think-like-a-junior-3/
END:VEVENT
BEGIN:VEVENT
DTSTART;TZID=America/New_York:20201012T183000
DTEND;TZID=America/New_York:20201012T193000
DTSTAMP:20260422T082840
CREATED:20200924T174443Z
LAST-MODIFIED:20200924T174443Z
UID:5648-1602527400-1602531000@www.crosbyscholars.org
SUMMARY:Junior Academy - Think Like a Junior
DESCRIPTION:We are jumpstarting the junior year with a special presentation “Think Like a Junior” to help you prepare for all of the Crosby Scholars requirements this upcoming year and to better prepare you for the application process that will begin sooner than you think! This session is required for all juniors in the program. \nDate: Monday\, October 12 \nTime: 6:30 PM \nLocation: VIRTUAL; registered students will receive the meeting link 24 hours before the presentation. \nAt this time all Think Like a Junior Sessions will be a virtual presentation. \nDuring the webinar\, you will learn about the Crosby Scholars Junior Program requirements and how Crosby Scholars supports you through the college admission and financial aid processes\, including your enrollment decision! You may be thinking it is too early to start preparing for this process\, but we assure you\, it is never to early to begin planning for your senior year and beyond! \nRegistration is required (see below)\, and is limited to 300 participants. Given the significant role they play in the college journey\, parents are strongly encouraged to watch the webinar along with their student; however\, parents cannot watch the webinar on a student’s behalf. Please register as soon as possible in order to attend the session of your choice\, whether in-person or as a webinar! \nPlease download and read the Webinar Attendance Agreement before registering. \nThe webinar requires the following: \n\nComputer\nInternet Connection\nEmail address to log in to the presentation\nPhone or Computer Speakers\n\nYou must log in to the webinar (at home or any place with Internet access) on time\, watch the entire webinar\, and submit a confirmation of attendance in order to receive credit for attending. You will receive a link and login instructions prior to the beginning of the webinar via email. If you have questions after 5:00pm on the day of the webinar\, please call the Crosby Scholars Program’s cell at 336-671-5494. \nMake sure to answer the two questions that follow the registration information–including ordering your FREE Crosby Scholars Class of 2022 t-shirt — before submitting your registration.
URL:https://www.crosbyscholars.org/event/junior-academy-think-like-a-junior-4/
END:VEVENT
BEGIN:VEVENT
DTSTART;TZID=America/New_York:20201015T163000
DTEND;TZID=America/New_York:20201015T173000
DTSTAMP:20260422T082840
CREATED:20200924T174606Z
LAST-MODIFIED:20200924T174606Z
UID:5650-1602779400-1602783000@www.crosbyscholars.org
SUMMARY:Junior Academy - Think Like a Junior
DESCRIPTION:We are jumpstarting the junior year with a special presentation “Think Like a Junior” to help you prepare for all of the Crosby Scholars requirements this upcoming year and to better prepare you for the application process that will begin sooner than you think! This session is required for all juniors in the program. \nDate: Thursday\, October 15 \nTime: 4:30 PM \nLocation: VIRTUAL; registered students will receive the meeting link 24 hours before the presentation. \nAt this time all Think Like a Junior Sessions will be a virtual presentation. \nDuring the webinar\, you will learn about the Crosby Scholars Junior Program requirements and how Crosby Scholars supports you through the college admission and financial aid processes\, including your enrollment decision! You may be thinking it is too early to start preparing for this process\, but we assure you\, it is never to early to begin planning for your senior year and beyond! \nRegistration is required in your student portal\, and is limited to 300 participants. Given the significant role they play in the college journey\, parents are strongly encouraged to watch the webinar along with their student; however\, parents cannot watch the webinar on a student’s behalf. Please register as soon as possible in order to attend the webinar! \nPlease download and read the Webinar Attendance Agreement before registering. \nThe webinar requires the following: \n\nComputer\nInternet Connection\nEmail address to log in to the presentation\nPhone or Computer Speakers\n\nYou must log in to the webinar (at home or any place with Internet access) on time\, watch the entire webinar\, and submit a confirmation of attendance in order to receive credit for attending. You will receive a link and login instructions prior to the beginning of the webinar via email. If you have questions after 5:00pm on the day of the webinar\, please call the Crosby Scholars Program’s cell at 336-671-5494. \nMake sure to answer the two questions that follow the registration information–including ordering your FREE Crosby Scholars Class of 2022 t-shirt — before submitting your registration.
URL:https://www.crosbyscholars.org/event/junior-academy-think-like-a-junior-5/
END:VEVENT
BEGIN:VEVENT
DTSTART;VALUE=DATE:20201016
DTEND;VALUE=DATE:20201017
DTSTAMP:20260422T082840
CREATED:20201016T173407Z
LAST-MODIFIED:20201016T173407Z
UID:5791-1602806400-1602892799@www.crosbyscholars.org
SUMMARY:College-A-Day Series: NC Central (Juniors & Seniors)
DESCRIPTION:Visiting your possible future home for your next educational journey is an exciting time as you consider where to apply for your collegiate career. However\, during this year and impacts from campus closures\, we have shifted our college tours to a virtual platform. Join us throughout the day on October 16  on social media and webinar\, to learn more about NC Central! From 10AM-2PM we will takeover our Instagram (@crosbyscholars) covering a variety of topics on college life at NC Central. We will also host a Live College Panel at 4:00 PM where you will have the opportunity to ask your specific questions to current college students. \nWe know that nothing can replace the experience of physically touring a college campus\, but we do hope we can help you connect with a variety of schools through a virtual platform. To encourage you to participate\, we will award credit for the College Fair/Visit requirement if you attend 4 out of the Live College Panels offered between now and December. You will need to register for each Live Panel and attend at least 4 to receive credit. \n**SENIORS: The college panel will count for 1 our of 4 of the required college visits needed for the College Fair/Visit requirement due October 31st. You can combine these with additional College-A-Day sessions or complete virtual visits on your own to receive credit for the College Fair/Visit requirement. \n“College A Day”: NC Central —  Friday\, October 16\, 2020 (Registration is required in your student portal) \n10:00AM: Dorm Life Interviews: IGTV Launch \n11:00AM: Academic Q&A: IGTV Launch \n1:00PM: Extracurricular/Social Life Q&A: IGTV Launch \n2:00PM: Favorite Things About ECU: IGTV Launch \n4:00 PM: LIVE COLLEGE PANEL: WEBEX Register in your student portal to attend this webinar panel. We will send the webex link to all students who pre-register. \n*The only activity that requires a registration is the LIVE COLLEGE PANEL at 4:00 PM. The Instagram stories will go live on Instagram at the designated time above. They will be available to watch at any time after the launch. Be sure to watch them all to learn as much as you can about the school. Engage with us on social media to let us know you have watched the stories! We are not requiring attendance for the Instagram stories\, but we would like to know if you participated! We might even give away free swag to students who share the videos on their social media accounts! \nPlease reach out to seniorprogram@crosbyscholars.org with any questions.
URL:https://www.crosbyscholars.org/event/college-a-day-series-nc-central-juniors-seniors/
END:VEVENT
BEGIN:VEVENT
DTSTART;TZID=America/New_York:20201020T183000
DTEND;TZID=America/New_York:20201020T193000
DTSTAMP:20260422T082840
CREATED:20200924T174730Z
LAST-MODIFIED:20200924T174730Z
UID:5652-1603218600-1603222200@www.crosbyscholars.org
SUMMARY:Junior Academy - Think Like a Junior
DESCRIPTION:We are jumpstarting the junior year with a special presentation “Think Like a Junior” to help you prepare for all of the Crosby Scholars requirements this upcoming year and to better prepare you for the application process that will begin sooner than you think! This session is required for all juniors in the program. \nDate: Tuesday\, October 20 \nTime: 6:30 PM \nLocation: VIRTUAL; registered students will receive the meeting link 24 hours before the presentation. \nAt this time all Think Like a Junior Sessions will be a virtual presentation. \nDuring the webinar\, you will learn about the Crosby Scholars Junior Program requirements and how Crosby Scholars supports you through the college admission and financial aid processes\, including your enrollment decision! You may be thinking it is too early to start preparing for this process\, but we assure you\, it is never to early to begin planning for your senior year and beyond! \nRegistration is required in your student portal\, and is limited to 300 participants. Given the significant role they play in the college journey\, parents are strongly encouraged to watch the webinar along with their student; however\, parents cannot watch the webinar on a student’s behalf. Please register as soon as possible in order to attend the session webinar! \nPlease download and read the Webinar Attendance Agreement before registering. \nThe webinar requires the following: \n\nComputer\nInternet Connection\nEmail address to log in to the presentation\nPhone or Computer Speakers\n\nYou must log in to the webinar (at home or any place with Internet access) on time\, watch the entire webinar\, and submit a confirmation of attendance in order to receive credit for attending. You will receive a link and login instructions prior to the beginning of the webinar via email. If you have questions after 5:00pm on the day of the webinar\, please call the Crosby Scholars Program’s cell at 336-671-5494. \nMake sure to answer the two questions that follow the registration information–including ordering your FREE Crosby Scholars Class of 2022 t-shirt — before submitting your registration.
URL:https://www.crosbyscholars.org/event/junior-academy-think-like-a-junior-6/
END:VEVENT
BEGIN:VEVENT
DTSTART;VALUE=DATE:20201023
DTEND;VALUE=DATE:20201024
DTSTAMP:20260422T082840
CREATED:20201016T173547Z
LAST-MODIFIED:20201016T173913Z
UID:5793-1603411200-1603497599@www.crosbyscholars.org
SUMMARY:College-A-Day Series: UNC Greensboro (Juniors & Seniors)
DESCRIPTION:Visiting your possible future home for your next educational journey is an exciting time as you consider where to apply for your collegiate career. However\, during this year and impacts from campus closures\, we have shifted our college tours to a virtual platform. Join us throughout the day on October 23  on social media and webinar\, to learn more about UNCG! From 10AM-2PM we will takeover our Instagram (@crosbyscholars) covering a variety of topics on college life at UNCG. We will also host a Live College Panel at 4:00 PM where you will have the opportunity to ask your specific questions to current college students. \nWe know that nothing can replace the experience of physically touring a college campus\, but we do hope we can help you connect with a variety of schools through a virtual platform. To encourage you to participate\, we will award credit for the College Fair/Visit requirement if you attend 4 out of the Live College Panels offered between now and December. You will need to register for each Live Panel and attend at least 4 to receive credit. \n**SENIORS: The college panel will count for 1 our of 4 of the required college visits needed for the College Fair/Visit requirement due October 31st. You can combine these with additional College-A-Day sessions or complete virtual visits on your own to receive credit for the College Fair/Visit requirement. \n“College A Day”: UNCG —  Friday\, October 23\, 2020 (Registration is required in your student portal) \n10:00AM: Dorm Life Interviews: IGTV Launch \n11:00AM: Academic Q&A: IGTV Launch \n1:00PM: Extracurricular/Social Life Q&A: IGTV Launch \n2:00PM: Favorite Things About ECU: IGTV Launch \n4:00 PM: LIVE COLLEGE PANEL: WEBEX Register in your student portal to attend this webinar panel. We will send the webex link to all students who pre-register. \n*The only activity that requires a registration is the LIVE COLLEGE PANEL at 4:00 PM. The Instagram stories will go live on Instagram at the designated time above. They will be available to watch at any time after the launch. Be sure to watch them all to learn as much as you can about the school. Engage with us on social media to let us know you have watched the stories! We are not requiring attendance for the Instagram stories\, but we would like to know if you participated! We might even give away free swag to students who share the videos on their social media accounts! \nPlease reach out to seniorprogram@crosbyscholars.org with any questions.
URL:https://www.crosbyscholars.org/event/college-a-day-series-unc-greensboro-juniors-seniors/
END:VEVENT
BEGIN:VEVENT
DTSTART;TZID=America/New_York:20201024T100000
DTEND;TZID=America/New_York:20201024T110000
DTSTAMP:20260422T082840
CREATED:20200924T174939Z
LAST-MODIFIED:20200924T174939Z
UID:5654-1603533600-1603537200@www.crosbyscholars.org
SUMMARY:Junior Academy - Think Like a Junior
DESCRIPTION:We are jumpstarting the junior year with a special presentation “Think Like a Junior” to help you prepare for all of the Crosby Scholars requirements this upcoming year and to better prepare you for the application process that will begin sooner than you think! This session is required for all juniors in the program. \nDate: Saturday\, October 24 \nTime: 10:00 AM \nLocation: VIRTUAL; registered students will receive the meeting link 24 hours before the presentation. \nAt this time all Think Like a Junior Sessions will be a virtual presentation. \nDuring the webinar\, you will learn about the Crosby Scholars Junior Program requirements and how Crosby Scholars supports you through the college admission and financial aid processes\, including your enrollment decision! You may be thinking it is too early to start preparing for this process\, but we assure you\, it is never to early to begin planning for your senior year and beyond! \nRegistration is required in your student portal\, and is limited to 300 participants. Given the significant role they play in the college journey\, parents are strongly encouraged to watch the webinar along with their student; however\, parents cannot watch the webinar on a student’s behalf. Please register as soon as possible in order to attend the webinar! \nPlease download and read the Webinar Attendance Agreement before registering. \nThe webinar requires the following: \n\nComputer\nInternet Connection\nEmail address to log in to the presentation\nPhone or Computer Speakers\n\nYou must log in to the webinar (at home or any place with Internet access) on time\, watch the entire webinar\, and submit a confirmation of attendance in order to receive credit for attending. You will receive a link and login instructions prior to the beginning of the webinar via email. If you have questions after 5:00pm on the day of the webinar\, please call the Crosby Scholars Program’s cell at 336-671-5494. \nMake sure to answer the two questions that follow the registration information–including ordering your FREE Crosby Scholars Class of 2022 t-shirt — before submitting your registration.
URL:https://www.crosbyscholars.org/event/junior-academy-think-like-a-junior-7/
END:VEVENT
BEGIN:VEVENT
DTSTART;TZID=America/New_York:20201028T163000
DTEND;TZID=America/New_York:20201028T173000
DTSTAMP:20260422T082840
CREATED:20200924T175104Z
LAST-MODIFIED:20200924T175104Z
UID:5656-1603902600-1603906200@www.crosbyscholars.org
SUMMARY:Junior Academy - Think Like a Junior
DESCRIPTION:We are jumpstarting the junior year with a special presentation “Think Like a Junior” to help you prepare for all of the Crosby Scholars requirements this upcoming year and to better prepare you for the application process that will begin sooner than you think! This session is required for all juniors in the program. \nDate: Wednesday\, October 28 \nTime: 4:30 PM \nLocation: VIRTUAL; registered students will receive the meeting link 24 hours before the presentation. \nAt this time all Think Like a Junior Sessions will be a virtual presentation. \nDuring the webinar\, you will learn about the Crosby Scholars Junior Program requirements and how Crosby Scholars supports you through the college admission and financial aid processes\, including your enrollment decision! You may be thinking it is too early to start preparing for this process\, but we assure you\, it is never to early to begin planning for your senior year and beyond! \nRegistration is required in your student portal\, and is limited to 300 participants. Given the significant role they play in the college journey\, parents are strongly encouraged to watch the webinar along with their student; however\, parents cannot watch the webinar on a student’s behalf. Please register as soon as possible in order to attend the webinar! \nPlease download and read the Webinar Attendance Agreement before registering. \nThe webinar requires the following: \n\nComputer\nInternet Connection\nEmail address to log in to the presentation\nPhone or Computer Speakers\n\nYou must log in to the webinar (at home or any place with Internet access) on time\, watch the entire webinar\, and submit a confirmation of attendance in order to receive credit for attending. You will receive a link and login instructions prior to the beginning of the webinar via email. If you have questions after 5:00pm on the day of the webinar\, please call the Crosby Scholars Program’s cell at 336-671-5494. \nMake sure to answer the two questions that follow the registration information–including ordering your FREE Crosby Scholars Class of 2022 t-shirt — before submitting your registration.
URL:https://www.crosbyscholars.org/event/junior-academy-think-like-a-junior-8/
END:VEVENT
BEGIN:VEVENT
DTSTART;TZID=America/New_York:20201030T150000
DTEND;TZID=America/New_York:20201030T160000
DTSTAMP:20260422T082840
CREATED:20200924T175330Z
LAST-MODIFIED:20200924T175330Z
UID:5658-1604070000-1604073600@www.crosbyscholars.org
SUMMARY:Junior Academy - Think Like a Junior
DESCRIPTION:We are jumpstarting the junior year with a special presentation “Think Like a Junior” to help you prepare for all of the Crosby Scholars requirements this upcoming year and to better prepare you for the application process that will begin sooner than you think! This session is required for all juniors in the program. \nDate: Friday\, October 30 \nTime: 3:00 PM \nLocation: VIRTUAL; registered students will receive the meeting link 24 hours before the presentation. \nAt this time all Think Like a Junior Sessions will be a virtual presentation. \nDuring the webinar\, you will learn about the Crosby Scholars Junior Program requirements and how Crosby Scholars supports you through the college admission and financial aid processes\, including your enrollment decision! You may be thinking it is too early to start preparing for this process\, but we assure you\, it is never to early to begin planning for your senior year and beyond! \nRegistration is required in your student portal\, and is limited to 300 participants. Given the significant role they play in the college journey\, parents are strongly encouraged to watch the webinar along with their student; however\, parents cannot watch the webinar on a student’s behalf. Please register as soon as possible in order to attend the webinar! \nPlease download and read the Webinar Attendance Agreement before registering. \nThe webinar requires the following: \n\nComputer\nInternet Connection\nEmail address to log in to the presentation\nPhone or Computer Speakers\n\nYou must log in to the webinar (at home or any place with Internet access) on time\, watch the entire webinar\, and submit a confirmation of attendance in order to receive credit for attending. You will receive a link and login instructions prior to the beginning of the webinar via email. If you have questions after 5:00pm on the day of the webinar\, please call the Crosby Scholars Program’s cell at 336-671-5494. \nMake sure to answer the two questions that follow the registration information–including ordering your FREE Crosby Scholars Class of 2022 t-shirt — before submitting your registration.
URL:https://www.crosbyscholars.org/event/junior-academy-think-like-a-junior-9/
END:VEVENT
END:VCALENDAR