BEGIN:VCALENDAR
VERSION:2.0
PRODID:-//Crosby Scholars Forsyth - ECPv6.15.13.1//NONSGML v1.0//EN
CALSCALE:GREGORIAN
METHOD:PUBLISH
X-ORIGINAL-URL:https://www.crosbyscholars.org
X-WR-CALDESC:Events for Crosby Scholars Forsyth
REFRESH-INTERVAL;VALUE=DURATION:PT1H
X-Robots-Tag:noindex
X-PUBLISHED-TTL:PT1H
BEGIN:VTIMEZONE
TZID:America/New_York
BEGIN:DAYLIGHT
TZOFFSETFROM:-0500
TZOFFSETTO:-0400
TZNAME:EDT
DTSTART:20190310T070000
END:DAYLIGHT
BEGIN:STANDARD
TZOFFSETFROM:-0400
TZOFFSETTO:-0500
TZNAME:EST
DTSTART:20191103T060000
END:STANDARD
BEGIN:DAYLIGHT
TZOFFSETFROM:-0500
TZOFFSETTO:-0400
TZNAME:EDT
DTSTART:20200308T070000
END:DAYLIGHT
BEGIN:STANDARD
TZOFFSETFROM:-0400
TZOFFSETTO:-0500
TZNAME:EST
DTSTART:20201101T060000
END:STANDARD
BEGIN:DAYLIGHT
TZOFFSETFROM:-0500
TZOFFSETTO:-0400
TZNAME:EDT
DTSTART:20210314T070000
END:DAYLIGHT
BEGIN:STANDARD
TZOFFSETFROM:-0400
TZOFFSETTO:-0500
TZNAME:EST
DTSTART:20211107T060000
END:STANDARD
END:VTIMEZONE
BEGIN:VEVENT
DTSTART;TZID=America/New_York:20200504T193000
DTEND;TZID=America/New_York:20200504T200000
DTSTAMP:20260422T185117
CREATED:20200220T171220Z
LAST-MODIFIED:20200304T164046Z
UID:4559-1588620600-1588622400@www.crosbyscholars.org
SUMMARY:CrosbyPlus - Study Skills: Tips from the Pro's (9th & 10th Grade)
DESCRIPTION:CrosbyPlus – Study Skills: Tips from the Pro’s (9th & 10th Grade) \nLive Launch at 7:30PM \nThe purpose of the CrosbyPlus program is to discuss topics to help prepare scholars for the college admission process and build a foundation of knowledge that launches them into junior and senior years.  We listened to student feedback and determined the most effective way to reach all students\, is to cover these topics via short YouTube videos and answer questions during a live launch. Throughout the spring semester we will share these videos on our Crosby TV channel (YouTube page). \nDuring each video presentation\, we will record student participation and attendance. Throughout the spring semester we will reward CrosbyPlus participants with fun Crosby swag. All students who watch the live video launch or recording\, will have the opportunity to win cool prizes. \nClick here to find more details on the new CrosbyPlus program. \nWe hope you can participate in one of our video launches.  Be on the lookout for follow-up emails with instructions to join the video launch.
URL:https://www.crosbyscholars.org/event/crosbyplus-study-skills-tips-from-the-pros/
END:VEVENT
BEGIN:VEVENT
DTSTART;TZID=America/New_York:20200519T193000
DTEND;TZID=America/New_York:20200519T200000
DTSTAMP:20260422T185117
CREATED:20200220T171425Z
LAST-MODIFIED:20200506T185737Z
UID:4561-1589916600-1589918400@www.crosbyscholars.org
SUMMARY:CrosbyPlus - High School Years Ahead: What to do Now? (9th & 10th Grade)
DESCRIPTION:CrosbyPlus – High School Years Ahead: What to do Now? (9th & 10th Grade) \nLive Launch at 7:30PM \nThe purpose of the CrosbyPlus program is to discuss topics to help prepare scholars for the college admission process and build a foundation of knowledge that launches them into junior and senior years.  We listened to student feedback and determined the most effective way to reach all students\, is to cover these topics via short YouTube videos and answer questions during a live launch. Throughout the spring semester we will share these videos on our Crosby TV channel (YouTube page). \nDuring each video presentation\, we will record student participation and attendance. Throughout the spring semester we will reward CrosbyPlus participants with fun Crosby swag. All students who watch the live video launch or recording\, will have the opportunity to win cool prizes. \nClick here to find more details on the new CrosbyPlus program. \nWe hope you can participate in one of our video launches.  Be on the lookout for follow-up emails with instructions to join the video launch.
URL:https://www.crosbyscholars.org/event/crosbyplus-high-school-years-ahead-what-to-do-now/
END:VEVENT
END:VCALENDAR