BEGIN:VCALENDAR
VERSION:2.0
PRODID:-//Crosby Scholars Forsyth - ECPv6.15.13.1//NONSGML v1.0//EN
CALSCALE:GREGORIAN
METHOD:PUBLISH
X-ORIGINAL-URL:https://www.crosbyscholars.org
X-WR-CALDESC:Events for Crosby Scholars Forsyth
REFRESH-INTERVAL;VALUE=DURATION:PT1H
X-Robots-Tag:noindex
X-PUBLISHED-TTL:PT1H
BEGIN:VTIMEZONE
TZID:America/New_York
BEGIN:DAYLIGHT
TZOFFSETFROM:-0500
TZOFFSETTO:-0400
TZNAME:EDT
DTSTART:20200308T070000
END:DAYLIGHT
BEGIN:STANDARD
TZOFFSETFROM:-0400
TZOFFSETTO:-0500
TZNAME:EST
DTSTART:20201101T060000
END:STANDARD
BEGIN:DAYLIGHT
TZOFFSETFROM:-0500
TZOFFSETTO:-0400
TZNAME:EDT
DTSTART:20210314T070000
END:DAYLIGHT
BEGIN:STANDARD
TZOFFSETFROM:-0400
TZOFFSETTO:-0500
TZNAME:EST
DTSTART:20211107T060000
END:STANDARD
BEGIN:DAYLIGHT
TZOFFSETFROM:-0500
TZOFFSETTO:-0400
TZNAME:EDT
DTSTART:20220313T070000
END:DAYLIGHT
BEGIN:STANDARD
TZOFFSETFROM:-0400
TZOFFSETTO:-0500
TZNAME:EST
DTSTART:20221106T060000
END:STANDARD
END:VTIMEZONE
BEGIN:VEVENT
DTSTART;TZID=America/New_York:20210210T160000
DTEND;TZID=America/New_York:20210210T170000
DTSTAMP:20260422T004021
CREATED:20210203T214739Z
LAST-MODIFIED:20210203T214757Z
UID:6307-1612972800-1612976400@www.crosbyscholars.org
SUMMARY:College-A-Day: Johnson C. Smith (Juniors)
DESCRIPTION:Visiting your possible future home for your next educational journey is an exciting time as you consider where to apply for your collegiate career. However\, because of campus closures\, we have shifted our college tours to a virtual platform. Join us throughout the day on February 10th on social media and webinar\, to learn more about Johnson C. Smith! Throughout the day we will post new Instagram stories covering a variety of topics on college life at Johnson C. Smith. We will also host a Live College Panel where you will have the opportunity to ask your specific questions to current college students. Registration is required in your portal to attend the panel. \nWe know that nothing can replace the experience of physically touring a college campus\, but we do hope we can help you connect with a variety of schools throughout this year through a virtual platform. Email us at seniorprogram@crosbyscholars.org if you have any questions. \n“College A Day”: Johnson C. Smith —  Wednesday\, February 10th\, 2021 at 4:00 PM \n*The only activity that requires a registration is the LIVE COLLEGE PANEL at 4PM. The Instagram stories will go live throughout the day. They will be available to watch at any time after the launch. Be sure to watch them all to learn as much as you can about the school. Engage with us on social media to let us know you have watched the videos! We are not requiring attendance for the Instagram stories\, but we would like to know if you participated! \nPlease reach out to seniorprogram@crosbyscholars.org with any questions. \nFuture College-A-Day Events:  \nFayetteville State University – February 10th @ 4 pm \nSalem College – March 12th @ 4 pm \nMeredith College- March 24th @ 4 pm \nUNCW – April 14th @ 4 pm \nWestern Carolina – April 30th @ 4 pm
URL:https://www.crosbyscholars.org/event/college-a-day-johnson-c-smith-juniors/
END:VEVENT
BEGIN:VEVENT
DTSTART;TZID=America/New_York:20210226T160000
DTEND;TZID=America/New_York:20210226T170000
DTSTAMP:20260422T004021
CREATED:20210203T214919Z
LAST-MODIFIED:20210203T215035Z
UID:6309-1614355200-1614358800@www.crosbyscholars.org
SUMMARY:College-A-Day: Fayetteville State University (Juniors)
DESCRIPTION:Visiting your possible future home for your next educational journey is an exciting time as you consider where to apply for your collegiate career. However\, because of campus closures\, we have shifted our college tours to a virtual platform. Join us throughout the day on February 26th on social media and webinar\, to learn more about Fayetteville State University! Throughout the day we will post new Instagram stories covering a variety of topics on college life at Fayetteville State. We will also host a Live College Panel where you will have the opportunity to ask your specific questions to current college students. Registration is required in your student portal to attend the live panel. \nWe know that nothing can replace the experience of physically touring a college campus\, but we do hope we can help you connect with a variety of schools throughout this year through a virtual platform. Email us at seniorprogram@crosbyscholars.org if you have any questions. \n“College A Day”: Fayetteville State University —  Friday\, February 26th\, 2021 at 4:00 PM \n*The only activity that requires a registration is the LIVE COLLEGE PANEL at 4PM. The Instagram stories will go live throughout the day. They will be available to watch at any time after the launch. Be sure to watch them all to learn as much as you can about the school. Engage with us on social media to let us know you have watched the videos! We are not requiring attendance for the Instagram stories\, but we would like to know if you participated! \nPlease reach out to seniorprogram@crosbyscholars.org with any questions. \nFuture College-A-Day Events:  \nSalem College – March 12th @ 4 pm \nMeredith College- March 24th @ 4 pm \nUNCW – April 14th @ 4 pm \nWestern Carolina – April 30th @ 4 pm
URL:https://www.crosbyscholars.org/event/college-a-day-fayetteville-state-university/
END:VEVENT
END:VCALENDAR