BEGIN:VCALENDAR
VERSION:2.0
PRODID:-//Crosby Scholars Forsyth - ECPv6.15.13.1//NONSGML v1.0//EN
CALSCALE:GREGORIAN
METHOD:PUBLISH
X-WR-CALNAME:Crosby Scholars Forsyth
X-ORIGINAL-URL:https://www.crosbyscholars.org
X-WR-CALDESC:Events for Crosby Scholars Forsyth
REFRESH-INTERVAL;VALUE=DURATION:PT1H
X-Robots-Tag:noindex
X-PUBLISHED-TTL:PT1H
BEGIN:VTIMEZONE
TZID:America/New_York
BEGIN:DAYLIGHT
TZOFFSETFROM:-0500
TZOFFSETTO:-0400
TZNAME:EDT
DTSTART:20250309T070000
END:DAYLIGHT
BEGIN:STANDARD
TZOFFSETFROM:-0400
TZOFFSETTO:-0500
TZNAME:EST
DTSTART:20251102T060000
END:STANDARD
BEGIN:DAYLIGHT
TZOFFSETFROM:-0500
TZOFFSETTO:-0400
TZNAME:EDT
DTSTART:20260308T070000
END:DAYLIGHT
BEGIN:STANDARD
TZOFFSETFROM:-0400
TZOFFSETTO:-0500
TZNAME:EST
DTSTART:20261101T060000
END:STANDARD
BEGIN:DAYLIGHT
TZOFFSETFROM:-0500
TZOFFSETTO:-0400
TZNAME:EDT
DTSTART:20270314T070000
END:DAYLIGHT
BEGIN:STANDARD
TZOFFSETFROM:-0400
TZOFFSETTO:-0500
TZNAME:EST
DTSTART:20271107T060000
END:STANDARD
END:VTIMEZONE
BEGIN:VEVENT
DTSTART;TZID=America/New_York:20260504T173000
DTEND;TZID=America/New_York:20260504T190000
DTSTAMP:20260422T090647
CREATED:20250930T133432Z
LAST-MODIFIED:20250930T133432Z
UID:14396-1777915800-1777921200@www.crosbyscholars.org
SUMMARY:20th Annual Crosby Scholars Invitational Sponsorship Dinner
DESCRIPTION:An evening of connection and celebration at Old Town Club as we honor the generous sponsors who make the Crosby Scholars Invitational possible. This special dinner brings together community leaders and supporters committed to helping students achieve their college dreams.
URL:https://www.crosbyscholars.org/event/20th-annual-crosby-scholars-invitational-sponsorship-dinner/
END:VEVENT
BEGIN:VEVENT
DTSTART;VALUE=DATE:20260505
DTEND;VALUE=DATE:20260506
DTSTAMP:20260422T090647
CREATED:20250930T134003Z
LAST-MODIFIED:20250930T134157Z
UID:14409-1777939200-1778025599@www.crosbyscholars.org
SUMMARY:20th Annual Crosby Scholars Invitational
DESCRIPTION:
URL:https://www.crosbyscholars.org/event/20th-annual-crosby-scholars-invitational/
LOCATION:Bermuda Run Country Club\, 324 Bermuda Run Dr\, Bermuda run\, 27006\, United States
END:VEVENT
BEGIN:VEVENT
DTSTART;TZID=America/New_York:20260505T073000
DTEND;TZID=America/New_York:20260505T093000
DTSTAMP:20260422T090647
CREATED:20250930T133907Z
LAST-MODIFIED:20250930T134325Z
UID:14406-1777966200-1777973400@www.crosbyscholars.org
SUMMARY:20th Annual Breakfast of Champions
DESCRIPTION:The annual Breakfast of Champions in Bermuda Run honors graduating Crosby Scholars as they join the alumni family\, featuring student reflections\, leadership highlights\, and a guest speaker before the Annual Crosby Scholars Invitational Golf Tournament.
URL:https://www.crosbyscholars.org/event/20th-annual-breakfast-of-champions/
LOCATION:Bermuda Run Country Club\, 324 Bermuda Run Dr\, Bermuda run\, 27006\, United States
END:VEVENT
BEGIN:VEVENT
DTSTART;VALUE=DATE:20260508
DTEND;VALUE=DATE:20260509
DTSTAMP:20260422T090647
CREATED:20260112T155515Z
LAST-MODIFIED:20260112T155533Z
UID:14779-1778198400-1778284799@www.crosbyscholars.org
SUMMARY:C/O 2027 Conference Notes 2 Deadline
DESCRIPTION:Conference Notes 2 are due today. \nFor any questions contact The Advising Program at advising@crosbyscholars.org or Cindy Zimmerman at czimmerman@crosbyscholars.org
URL:https://www.crosbyscholars.org/event/co-2027-conference-notes-2-deadline/
END:VEVENT
BEGIN:VEVENT
DTSTART;VALUE=DATE:20260508
DTEND;VALUE=DATE:20260509
DTSTAMP:20260422T090647
CREATED:20260112T155611Z
LAST-MODIFIED:20260112T155637Z
UID:14781-1778198400-1778284799@www.crosbyscholars.org
SUMMARY:C/O 2026 Conference Notes 6 Deadline
DESCRIPTION:Conference Notes 6 are due today. \nFor any questions contact The Advising Program at advising@crosbyscholars.org or Cindy Zimmerman at czimmerman@crosbyscholars.org
URL:https://www.crosbyscholars.org/event/co-2026-conference-notes-6-deadline/
END:VEVENT
BEGIN:VEVENT
DTSTART;VALUE=DATE:20260522
DTEND;VALUE=DATE:20260523
DTSTAMP:20260422T090647
CREATED:20250709T220425Z
LAST-MODIFIED:20250709T220515Z
UID:14242-1779408000-1779494399@www.crosbyscholars.org
SUMMARY:WS/FCS Last Day of School 2025-26
DESCRIPTION:Have a great last day!
URL:https://www.crosbyscholars.org/event/ws-fcs-last-day-of-school-2025-26/
END:VEVENT
END:VCALENDAR