BEGIN:VCALENDAR
VERSION:2.0
PRODID:-//Crosby Scholars Forsyth - ECPv6.15.13.1//NONSGML v1.0//EN
CALSCALE:GREGORIAN
METHOD:PUBLISH
X-ORIGINAL-URL:https://www.crosbyscholars.org
X-WR-CALDESC:Events for Crosby Scholars Forsyth
REFRESH-INTERVAL;VALUE=DURATION:PT1H
X-Robots-Tag:noindex
X-PUBLISHED-TTL:PT1H
BEGIN:VTIMEZONE
TZID:America/New_York
BEGIN:DAYLIGHT
TZOFFSETFROM:-0500
TZOFFSETTO:-0400
TZNAME:EDT
DTSTART:20240310T070000
END:DAYLIGHT
BEGIN:STANDARD
TZOFFSETFROM:-0400
TZOFFSETTO:-0500
TZNAME:EST
DTSTART:20241103T060000
END:STANDARD
BEGIN:DAYLIGHT
TZOFFSETFROM:-0500
TZOFFSETTO:-0400
TZNAME:EDT
DTSTART:20250309T070000
END:DAYLIGHT
BEGIN:STANDARD
TZOFFSETFROM:-0400
TZOFFSETTO:-0500
TZNAME:EST
DTSTART:20251102T060000
END:STANDARD
BEGIN:DAYLIGHT
TZOFFSETFROM:-0500
TZOFFSETTO:-0400
TZNAME:EDT
DTSTART:20260308T070000
END:DAYLIGHT
BEGIN:STANDARD
TZOFFSETFROM:-0400
TZOFFSETTO:-0500
TZNAME:EST
DTSTART:20261101T060000
END:STANDARD
END:VTIMEZONE
BEGIN:VEVENT
DTSTART;VALUE=DATE:20250704
DTEND;VALUE=DATE:20250705
DTSTAMP:20260422T233009
CREATED:20250709T220554Z
LAST-MODIFIED:20250709T220647Z
UID:14245-1751587200-1751673599@www.crosbyscholars.org
SUMMARY:Crosby office closed | Independence Day
DESCRIPTION:Enjoy the Independence Day holiday!
URL:https://www.crosbyscholars.org/event/crosby-office-closed-independence-day/
END:VEVENT
BEGIN:VEVENT
DTSTART;TZID=America/New_York:20250708T180000
DTEND;TZID=America/New_York:20250708T190000
DTSTAMP:20260422T233009
CREATED:20250708T171258Z
LAST-MODIFIED:20250708T172100Z
UID:14144-1751997600-1752001200@www.crosbyscholars.org
SUMMARY:Intro to Residency Determination Service (RDS) webinar | Class of 2026 Senior Academy
DESCRIPTION:Class of 2026\, join us for this Zoom webinar to learn the importance of completing your RDS and how it can impact college costs. \nRegistration is required in CrosbyConnect. \nQuestions? Email finaid@crosbyscholars.org.
URL:https://www.crosbyscholars.org/event/intro-to-residency-determination-service-rds-webinar-class-of-2026-senior-academy/
END:VEVENT
BEGIN:VEVENT
DTSTART;TZID=America/New_York:20250709T080000
DTEND;TZID=America/New_York:20250709T173000
DTSTAMP:20260422T233009
CREATED:20250708T172116Z
LAST-MODIFIED:20250708T172615Z
UID:14154-1752048000-1752082200@www.crosbyscholars.org
SUMMARY:Class of 2026 Campus Visit to NC State + UNC Chapel Hill (Registration Full)
DESCRIPTION:Registration and the waiting list for this event are full. There will be additional opportunities to visit colleges during the school year.
URL:https://www.crosbyscholars.org/event/class-of-2026-campus-visit-to-nc-state-unc-chapel-hill/
END:VEVENT
BEGIN:VEVENT
DTSTART;TZID=America/New_York:20250714T130000
DTEND;TZID=America/New_York:20250714T140000
DTSTAMP:20260422T233009
CREATED:20250708T171512Z
LAST-MODIFIED:20250708T172039Z
UID:14150-1752498000-1752501600@www.crosbyscholars.org
SUMMARY:College Admissions Process FAQs webinar | Class of 2026 Senior Academy
DESCRIPTION:Class of 2026\, join us for this Zoom webinar to learn more about the college admissions process and get answers to frequently asked questions. \nRegistration is required in CrosbyConnect. \nQuestions? Email seniorprogram@crosbyscholars.org.
URL:https://www.crosbyscholars.org/event/college-admissions-process-faqs-webinar-class-of-2026-senior-academy/
END:VEVENT
BEGIN:VEVENT
DTSTART;VALUE=DATE:20250715
DTEND;VALUE=DATE:20250716
DTSTAMP:20260422T233009
CREATED:20250708T181353Z
LAST-MODIFIED:20250708T192449Z
UID:14160-1752537600-1752623999@www.crosbyscholars.org
SUMMARY:Essay Coaching begins! | Class of 2026
DESCRIPTION:Beginning July 15th\, class of 2026 Scholars will be able to schedule a 30-minute one-on-one Zoom meeting with a Crosby Essay Coach for help with their college essay(s). Details will be sent in our weekly email. Stay tuned! \nQuestions? Email seniorprogram@crosbyscholars.org.
URL:https://www.crosbyscholars.org/event/essay-coaching-begins-class-of-2026/
END:VEVENT
BEGIN:VEVENT
DTSTART;TZID=America/New_York:20250721T130000
DTEND;TZID=America/New_York:20250721T140000
DTSTAMP:20260422T233009
CREATED:20250708T180827Z
LAST-MODIFIED:20250708T181028Z
UID:14156-1753102800-1753106400@www.crosbyscholars.org
SUMMARY:Common App 101 webinar | Class of 2026 Senior Academy
DESCRIPTION:Class of 2026\, join us for this Zoom webinar to learn how to navigate and complete the Common App. \nRegistration is required in CrosbyConnect. \nQuestions? Email seniorprogram@crosbyscholars.org.
URL:https://www.crosbyscholars.org/event/common-app-101-webinar-class-of-2026-senior-academy/
END:VEVENT
BEGIN:VEVENT
DTSTART;TZID=America/New_York:20250724T110000
DTEND;TZID=America/New_York:20250724T120000
DTSTAMP:20260422T233009
CREATED:20250804T130046Z
LAST-MODIFIED:20250804T132823Z
UID:14276-1753354800-1753358400@www.crosbyscholars.org
SUMMARY:Essay Writing 201 webinar | Class of 2026 Senior Academy
DESCRIPTION:Class of 2026\, join us for this Zoom webinar to learn how to strengthen your writing and how to approach supplemental/short answer college application essays. \nRegistration is required in CrosbyConnect. \nQuestions? Email seniorprogram@crosbyscholars.org.
URL:https://www.crosbyscholars.org/event/essay-writing-201-webinar-class-of-2026-senior-academy/
END:VEVENT
BEGIN:VEVENT
DTSTART;TZID=America/New_York:20250729T093000
DTEND;TZID=America/New_York:20250729T153000
DTSTAMP:20260422T233009
CREATED:20260129T203605Z
LAST-MODIFIED:20260129T203622Z
UID:14794-1753781400-1753803000@www.crosbyscholars.org
SUMMARY:SHE STEM Day Camp
DESCRIPTION:
URL:https://www.crosbyscholars.org/event/she-stem-day-camp/
LOCATION:Goodwill Industries\, 2701 University Parkway\, Winston Salem\, NC\, 27105\, United States
END:VEVENT
BEGIN:VEVENT
DTSTART;VALUE=DATE:20250730
DTEND;VALUE=DATE:20250731
DTSTAMP:20260422T233009
CREATED:20250708T182006Z
LAST-MODIFIED:20250708T182303Z
UID:14162-1753833600-1753919999@www.crosbyscholars.org
SUMMARY:Junior Academy begins! | Class of 2027
DESCRIPTION:Junior Academy begins for class of 2027! Details will be sent in our weekly email. Stay tuned! \nJuniors are required to complete two (2) Crosby Scholars Academies: Junior Academy (fall requirement) and Think Like a Senior (spring requirement). \nJunior Academy is due November 3\, 2025. \nQuestions? Email seniorprogram@crosbyscholars.org.
URL:https://www.crosbyscholars.org/event/junior-academy-begins-class-of-2027/
END:VEVENT
BEGIN:VEVENT
DTSTART;TZID=America/New_York:20250730T110000
DTEND;TZID=America/New_York:20250730T120000
DTSTAMP:20260422T233009
CREATED:20250708T181110Z
LAST-MODIFIED:20250804T132643Z
UID:14158-1753873200-1753876800@www.crosbyscholars.org
SUMMARY:Junior Academy: Explore My Options webinar | Class of 2027
DESCRIPTION:Class of 2027\, join us for this Junior Academy: Explore My Options Zoom webinar to learn the difference in college degrees\, community colleges vs. 4-year schools\, and what next steps you can take now. See details here. \nRegistration is required in CrosbyConnect. \nQuestions? Email seniorprogram@crosbyscholars.org.
URL:https://www.crosbyscholars.org/event/class-of-2027-junior-academy-emo-july-30/
END:VEVENT
BEGIN:VEVENT
DTSTART;TZID=America/New_York:20250730T130000
DTEND;TZID=America/New_York:20250730T140000
DTSTAMP:20260422T233009
CREATED:20250804T132322Z
LAST-MODIFIED:20250804T132457Z
UID:14283-1753880400-1753884000@www.crosbyscholars.org
SUMMARY:Junior Academy: Create My Plan webinar | Class of 2027
DESCRIPTION:Class of 2027\, join us for this Junior Academy: Create My Plan Zoom webinar to learn how to research colleges\, weigh which 4-year colleges may be right for you\, and what next steps you can take now. See details here. \nRegistration is required in CrosbyConnect. \nQuestions? Email seniorprogram@crosbyscholars.org.
URL:https://www.crosbyscholars.org/event/class-of-2027-junior-academy-cmp-july-30/
END:VEVENT
END:VCALENDAR