BEGIN:VCALENDAR
VERSION:2.0
PRODID:-//Crosby Scholars Forsyth - ECPv6.15.13.1//NONSGML v1.0//EN
CALSCALE:GREGORIAN
METHOD:PUBLISH
X-ORIGINAL-URL:https://www.crosbyscholars.org
X-WR-CALDESC:Events for Crosby Scholars Forsyth
REFRESH-INTERVAL;VALUE=DURATION:PT1H
X-Robots-Tag:noindex
X-PUBLISHED-TTL:PT1H
BEGIN:VTIMEZONE
TZID:America/New_York
BEGIN:DAYLIGHT
TZOFFSETFROM:-0500
TZOFFSETTO:-0400
TZNAME:EDT
DTSTART:20240310T070000
END:DAYLIGHT
BEGIN:STANDARD
TZOFFSETFROM:-0400
TZOFFSETTO:-0500
TZNAME:EST
DTSTART:20241103T060000
END:STANDARD
BEGIN:DAYLIGHT
TZOFFSETFROM:-0500
TZOFFSETTO:-0400
TZNAME:EDT
DTSTART:20250309T070000
END:DAYLIGHT
BEGIN:STANDARD
TZOFFSETFROM:-0400
TZOFFSETTO:-0500
TZNAME:EST
DTSTART:20251102T060000
END:STANDARD
BEGIN:DAYLIGHT
TZOFFSETFROM:-0500
TZOFFSETTO:-0400
TZNAME:EDT
DTSTART:20260308T070000
END:DAYLIGHT
BEGIN:STANDARD
TZOFFSETFROM:-0400
TZOFFSETTO:-0500
TZNAME:EST
DTSTART:20261101T060000
END:STANDARD
END:VTIMEZONE
BEGIN:VEVENT
DTSTART;VALUE=DATE:20250501
DTEND;VALUE=DATE:20250502
DTSTAMP:20260423T030056
CREATED:20250707T184744Z
LAST-MODIFIED:20250707T184856Z
UID:14129-1746057600-1746143999@www.crosbyscholars.org
SUMMARY:C/O 2025 Conference Notes 6 Deadline
DESCRIPTION:Conference Notes 6 are due today \nFor any questions contact The Advising Program at advising@crosbyscholars.org or Cindy Zimmerman at czimmerman@crosbyscholars.org
URL:https://www.crosbyscholars.org/event/senior-conference-notes-3-deadline-copy-2-copy-4-copy-copy-2-copy-copy-copy/
END:VEVENT
BEGIN:VEVENT
DTSTART;VALUE=DATE:20250501
DTEND;VALUE=DATE:20250502
DTSTAMP:20260423T030056
CREATED:20250707T185007Z
LAST-MODIFIED:20250707T185058Z
UID:14131-1746057600-1746143999@www.crosbyscholars.org
SUMMARY:C/O 2026 Conference Notes 2 Deadline
DESCRIPTION:Conference Notes 2 are due today. \nFor any questions contact The Advising Program at advising@crosbyscholars.org or Cindy Zimmerman at czimmerman@crosbyscholars.org
URL:https://www.crosbyscholars.org/event/senior-conference-notes-3-deadline-copy-2-copy-4-copy-copy-2-copy-copy-copy-2/
END:VEVENT
END:VCALENDAR