BEGIN:VCALENDAR
VERSION:2.0
PRODID:-//Crosby Scholars Forsyth - ECPv6.15.13.1//NONSGML v1.0//EN
CALSCALE:GREGORIAN
METHOD:PUBLISH
X-ORIGINAL-URL:https://www.crosbyscholars.org
X-WR-CALDESC:Events for Crosby Scholars Forsyth
REFRESH-INTERVAL;VALUE=DURATION:PT1H
X-Robots-Tag:noindex
X-PUBLISHED-TTL:PT1H
BEGIN:VTIMEZONE
TZID:America/New_York
BEGIN:DAYLIGHT
TZOFFSETFROM:-0500
TZOFFSETTO:-0400
TZNAME:EDT
DTSTART:20210314T070000
END:DAYLIGHT
BEGIN:STANDARD
TZOFFSETFROM:-0400
TZOFFSETTO:-0500
TZNAME:EST
DTSTART:20211107T060000
END:STANDARD
BEGIN:DAYLIGHT
TZOFFSETFROM:-0500
TZOFFSETTO:-0400
TZNAME:EDT
DTSTART:20220313T070000
END:DAYLIGHT
BEGIN:STANDARD
TZOFFSETFROM:-0400
TZOFFSETTO:-0500
TZNAME:EST
DTSTART:20221106T060000
END:STANDARD
BEGIN:DAYLIGHT
TZOFFSETFROM:-0500
TZOFFSETTO:-0400
TZNAME:EDT
DTSTART:20230312T070000
END:DAYLIGHT
BEGIN:STANDARD
TZOFFSETFROM:-0400
TZOFFSETTO:-0500
TZNAME:EST
DTSTART:20231105T060000
END:STANDARD
END:VTIMEZONE
BEGIN:VEVENT
DTSTART;TZID=America/New_York:20220608T150000
DTEND;TZID=America/New_York:20220608T160000
DTSTAMP:20260423T191638
CREATED:20220602T200523Z
LAST-MODIFIED:20220603T132658Z
UID:8976-1654700400-1654704000@www.crosbyscholars.org
SUMMARY:Senior Academy: QuestBridge Information Session (Webinar)
DESCRIPTION:Rising Seniors!  You can complete your Senior Academy before your Senior year begins!  Seniors must complete 1 Senior Academy by December 12\, 2022.  Questions?  Please contact seniorprogram@crosbyscholars.org.  \nThis event is not hosted by Crosby Scholars Program; it is hosted by QuestBridge.  Check out the post in the Crosby Scholars Student Portal titled\, “Earn Senior Academy credit through one of our partners!” for more information on this event and others offered through some of our partners.  Proof of attendance is required to earn Senior Academy credit.  Crosby Scholars does not receive attendance information directly from our partners.  Please see details in the Portal post on how to submit your proof of attendance to earn Senior Academy credit. \n  \nQuestBridge Webinar – QuestBridge Information Session \n\nLearn more about QuestBridge\, the different programs they offer\, and what types of students they look for.\nRegistration:  Please see details in the Portal post (titled\, “Earn Senior Academy credit through one of our partners!“) to register.
URL:https://www.crosbyscholars.org/event/senior-academy-summer-bootcamp-essay-writing-101-webinar-copy-copy-copy-copy-copy/2022-06-08/
LOCATION:Zoom Webinar
END:VEVENT
BEGIN:VEVENT
DTSTART;TZID=America/New_York:20220609T180000
DTEND;TZID=America/New_York:20220609T190000
DTSTAMP:20260423T191638
CREATED:20220602T195352Z
LAST-MODIFIED:20220603T132922Z
UID:8966-1654797600-1654801200@www.crosbyscholars.org
SUMMARY:Senior Academy: QuestBridge - College Admissions 101 (Webinar)
DESCRIPTION:Rising Seniors!  You can complete your Senior Academy before your Senior year begins!  Seniors must complete 1 Senior Academy by December 12\, 2022.  Questions?  Please contact seniorprogram@crosbyscholars.org.  \nThis event is not hosted by Crosby Scholars Program; it is hosted by QuestBridge.  Check out the post in the Crosby Scholars Student Portal titled\, “Earn Senior Academy credit through one of our partners!” for more information on this event and others offered through some of our partners.  Proof of attendance is required to earn Senior Academy credit.  Crosby Scholars does not receive attendance information directly from our partners.  Please see details in the Portal post on how to submit your proof of attendance to earn Senior Academy credit. \n  \nQuestBridge Webinar – College Admissions 101 \n\nAre you wondering where to begin with your college admissions journey?  Attend this webinar featuring two college admissions officers for an introduction to common admissions terminology and tips on preparing for the upcoming college application season.\nRegistration:  Please see details in the Portal post (titled\, “Earn Senior Academy credit through one of our partners!“) to register.
URL:https://www.crosbyscholars.org/event/senior-academy-summer-bootcamp-essay-writing-101-webinar-copy-copy-copy-copy/
LOCATION:Zoom Webinar
END:VEVENT
BEGIN:VEVENT
DTSTART;TZID=America/New_York:20220616T150000
DTEND;TZID=America/New_York:20220616T160000
DTSTAMP:20260423T191638
CREATED:20220602T200722Z
LAST-MODIFIED:20220603T133041Z
UID:8981-1655391600-1655395200@www.crosbyscholars.org
SUMMARY:Senior Academy: QuestBridge - A First-Timer's Guide to Financial Aid (Webinar)
DESCRIPTION:Rising Seniors!  You can complete your Senior Academy before your Senior year begins!  Seniors must complete 1 Senior Academy by December 12\, 2022.  Questions?  Please contact seniorprogram@crosbyscholars.org.  \nThis event is not hosted by Crosby Scholars Program; it is hosted by QuestBridge.  Check out the post in the Crosby Scholars Student Portal titled\, “Earn Senior Academy credit through one of our partners!” for more information on this event and others offered through some of our partners.  Proof of attendance is required to earn Senior Academy credit.  Crosby Scholars does not receive attendance information directly from our partners.  Please see details in the Portal post on how to submit your proof of attendance to earn Senior Academy credit. \n  \nQuestBridge Webinar – A First-Timer’s Guide to Financial Aid \n\nDid you know top colleges can be more affordable to attend than public or community colleges for students from low-income backgrounds?  Hear from financial aid experts about how this is possible.  Understand the basics of financial aid so you can take ownership of your education.\nRegistration:  Please see details in the Portal post (titled\, “Earn Senior Academy credit through one of our partners!“) to register.
URL:https://www.crosbyscholars.org/event/senior-academy-summer-bootcamp-essay-writing-101-webinar-copy-copy-copy-copy-copy-2/
LOCATION:Zoom Webinar
END:VEVENT
BEGIN:VEVENT
DTSTART;TZID=America/New_York:20220621T150000
DTEND;TZID=America/New_York:20220621T160000
DTSTAMP:20260423T191638
CREATED:20220527T165552Z
LAST-MODIFIED:20220603T133245Z
UID:8933-1655823600-1655827200@www.crosbyscholars.org
SUMMARY:Senior Academy: 2 year to 4 year College Transfer Option (Webinar)
DESCRIPTION:Rising Seniors!  You can complete your Senior Academy before your Senior year begins!  Seniors must complete 1 Senior Academy by December 12\, 2022.  Questions?  Please contact seniorprogram@crosbyscholars.org. \nAre you curious about the opportunity start your college career at a 2 year institution and then transfer to a 4 year institution?  Join Crosby Scholars and Forsyth Technical Community College staff for this webinar to answer your questions.  There are many benefits to starting your college career at a 2 year institution before transferring to a 4 year institution.  Learn more with us during this webinar! \nAttending this webinar will complete your Senior Academy requirement. \nDate:  Tuesday\, June 21\, 2022 \nTime:  3:00pm-4:00pm \nLocation:  Zoom Webinar – Registrants will receive the link to join the event on the day of the event. \nRegistration:  Registration is required in the Crosby Scholars Student Portal. \nParents/Guardians:  Parents/guardians are welcome and encouraged to attend\, but a parent/guardian cannot earn Senior Academy credit on behalf of their student. \nQuestions?  Please contact seniorprogram@crosbyscholars.org.
URL:https://www.crosbyscholars.org/event/senior-academy-class-of-2023-2-year-to-4-year-college-transfer-option-webinar/
END:VEVENT
BEGIN:VEVENT
DTSTART;TZID=America/New_York:20220623T150000
DTEND;TZID=America/New_York:20220623T160000
DTSTAMP:20260423T191638
CREATED:20220602T184213Z
LAST-MODIFIED:20220603T135030Z
UID:8943-1655996400-1656000000@www.crosbyscholars.org
SUMMARY:Senior Academy: Summer Bootcamp - Essay Writing 101 (Webinar)
DESCRIPTION:Rising Seniors!  You can complete your Senior Academy before your Senior year begins!  Seniors must complete 1 Senior Academy by December 12\, 2022.  The Summer Bootcamp series is a group of Senior Academy webinars meant to jumpstart your College Application process.  Questions?  Please contact seniorprogram@crosbyscholars.org. \nJumpstart your College Essay Now! Learn how to “show\, rather than tell” about yourself and why you should welcome the opportunity to write an essay.  Writing admission essays is one of the most intimidating aspect of completing college applications. Hear from one of our Near Peer Senior Advisors as they share tips and tricks to improve your college essays to enhance your overall application. Whether you are writing your college application essays or scholarship essays\, you will learn how to effectively share your story in the college admissions process! \nRegistration:  Registration is required in the Crosby Scholars Student Portal in order to attend this webinar.  Registered rising seniors will receive the link to join the webinar via email on the day of the event.
URL:https://www.crosbyscholars.org/event/senior-academy-summer-bootcamp-essay-writing-101-webinar/
LOCATION:Zoom Webinar
END:VEVENT
BEGIN:VEVENT
DTSTART;TZID=America/New_York:20220623T180000
DTEND;TZID=America/New_York:20220623T190000
DTSTAMP:20260423T191638
CREATED:20220603T125843Z
LAST-MODIFIED:20220603T135054Z
UID:8983-1656007200-1656010800@www.crosbyscholars.org
SUMMARY:Senior Academy: QuestBridge - The Unspoken Benefits of Top Colleges (Webinar)
DESCRIPTION:Rising Seniors!  You can complete your Senior Academy before your Senior year begins!  Seniors must complete 1 Senior Academy by December 12\, 2022.  Questions?  Please contact seniorprogram@crosbyscholars.org. \nThis event is not hosted by Crosby Scholars Program; it is hosted by QuestBridge.  Check out the post in the Crosby Scholars Student Portal titled\, “Earn Senior Academy credit through one of our partners!” for more information on this event and others offered through some of our partners.  Proof of attendance is required to earn Senior Academy credit.  Crosby Scholars does not receive attendance information directly from our partners.  Please see details in the Portal post on how to submit your proof of attendance to earn Senior Academy credit. \n  \nQuestBridge Webinar – The Unspoken Benefits of Top Colleges \n\nYou likely already know some of the benefits that the nation’s top colleges and universities offer\, like unparalleled research opportunities\, renowned faculty\, and more.  But how can you feel confident that a top college is right for you?  Hear from admissions officers about the unique resources top colleges can offer and how they can set you up for success in your career.\nRegistration:  Please see details in the Portal post (titled\, “Earn Senior Academy credit through one of our partners!“) to register.
URL:https://www.crosbyscholars.org/event/senior-academy-summer-bootcamp-essay-writing-101-webinar-copy-copy-copy-copy-copy-2-copy/
LOCATION:Zoom Webinar
END:VEVENT
BEGIN:VEVENT
DTSTART;TZID=America/New_York:20220623T180000
DTEND;TZID=America/New_York:20220623T193000
DTSTAMP:20260423T191638
CREATED:20220616T170903Z
LAST-MODIFIED:20220627T154213Z
UID:9067-1656007200-1656012600@www.crosbyscholars.org
SUMMARY:Mandatory Self-Selected Advisor Training
DESCRIPTION:All first time self-selected advisors must attend an initial training session (in-person or via Zoom). \nDates: \n\nJune 23 at 6:00 pm – 7:30 pm\nJune 28 at 6:00pm – 7:30 pm\n\nPlease contact Cindy Zimmerman at czimmerman@crosbyscholars.org for any questions.
URL:https://www.crosbyscholars.org/event/mandatory-self-selected-advisor-training/
END:VEVENT
BEGIN:VEVENT
DTSTART;TZID=America/New_York:20220628T120000
DTEND;TZID=America/New_York:20220628T130000
DTSTAMP:20260423T191638
CREATED:20220613T145349Z
LAST-MODIFIED:20220613T145349Z
UID:9046-1656417600-1656421200@www.crosbyscholars.org
SUMMARY:Crosby Collegiate Society Meet & Greet Lunch
DESCRIPTION:Date: Tuesday\, June 28th\, 2022 \nTime: 12:00 pm – 1:00 pm \nLocation: Forsyth Tech Strickland Center \nForsyth Tech Rising Freshmen\, join us for a get together for the Crosby Collegiate Meet & Greet. Lunch will be provided. Click here to RSVP!
URL:https://www.crosbyscholars.org/event/crosby-collegiate-society-meet-greet-lunch/
END:VEVENT
BEGIN:VEVENT
DTSTART;TZID=America/New_York:20220628T150000
DTEND;TZID=America/New_York:20220628T160000
DTSTAMP:20260423T191638
CREATED:20220602T184235Z
LAST-MODIFIED:20220603T135303Z
UID:8946-1656428400-1656432000@www.crosbyscholars.org
SUMMARY:Senior Academy: Summer Bootcamp - Making the Most of College Visits (Webinar)
DESCRIPTION:Rising Seniors!  You can complete your Senior Academy before your Senior year begins!  Seniors must complete 1 Senior Academy by December 12\, 2022.  The Summer Bootcamp series is a group of Senior Academy webinars meant to jumpstart your College Application process.  Questions?  Please contact seniorprogram@crosbyscholars.org. \nAs College campuses open their doors for visitors\, we recommend you schedule tours to see your future home. Join us for a virtual presentation to learn how to make the most of your in-person and virtual visits during this season.  College tours are meant for you to explore prospective schools before deciding where to apply\, but tours are often approached simply as confirmation of what students have already decided about them\, whether positive or negative. Going beyond a formal tour and lunch at a popular dining spot will help students better visualize what it will be like to study\, socialize\, and relax on their future campus.  Join us for this Senior Academy webinar to learn how you can make the most of your college tours! \nRegistration:  Registration is required in the Crosby Scholars Student Portal in order to attend this webinar.  Registered rising seniors will receive the link to join the webinar via email on the day of the event.
URL:https://www.crosbyscholars.org/event/senior-academy-summer-bootcamp-essay-writing-101-webinar-copy/
LOCATION:Zoom Webinar
END:VEVENT
BEGIN:VEVENT
DTSTART;TZID=America/New_York:20220628T180000
DTEND;TZID=America/New_York:20220628T193000
DTSTAMP:20260423T191638
CREATED:20220616T171028Z
LAST-MODIFIED:20220616T171028Z
UID:9069-1656439200-1656444600@www.crosbyscholars.org
SUMMARY:Mandatory Self-Selected Advisor Training
DESCRIPTION:All first time self-selected advisors must attend an initial training session (in-person or via Zoom). \nDates: \n\nJune 23 at 6:00 pm – 7:30 pm\nJune 28  at 6:00 pm – 7:30 pm\n\nPlease contact Cindy Zimmerman at czimmerman@crosbyscholars.org for any questions.
URL:https://www.crosbyscholars.org/event/mandatory-self-selected-advisor-training-2/
END:VEVENT
BEGIN:VEVENT
DTSTART;TZID=America/New_York:20220629T180000
DTEND;TZID=America/New_York:20220629T190000
DTSTAMP:20260423T191638
CREATED:20220603T130257Z
LAST-MODIFIED:20220603T135736Z
UID:8986-1656525600-1656529200@www.crosbyscholars.org
SUMMARY:Senior Academy: QuestBridge - Telling Your Story (Webinar)
DESCRIPTION:Rising Seniors!  You can complete your Senior Academy before your Senior year begins!  Seniors must complete 1 Senior Academy by December 12\, 2022.  Questions?  Please contact seniorprogram@crosbyscholars.org. \nThis event is not hosted by Crosby Scholars Program; it is hosted by QuestBridge.  Check out the post in the Crosby Scholars Student Portal titled\, “Earn Senior Academy credit through one of our partners!” for more information on this event and others offered through some of our partners.  Proof of attendance is required to earn Senior Academy credit.  Crosby Scholars does not receive attendance information directly from our partners.  Please see details in the Portal post on how to submit your proof of attendance to earn Senior Academy credit. \n  \nQuestBridge Webinar – Telling Your Story \n\nAre you struggling with how to highlight your unique perspective through your college application and essays?  Join admissions officers to learn key strategies to capture your application reader’s attention and showcase who you are as an applicant.\nRegistration:  Please see details in the Portal post (titled\, “Earn Senior Academy credit through one of our partners!“) to register.
URL:https://www.crosbyscholars.org/event/senior-academy-summer-bootcamp-essay-writing-101-webinar-copy-copy-copy-copy-copy-2-copy-copy/
LOCATION:Zoom Webinar
END:VEVENT
END:VCALENDAR