BEGIN:VCALENDAR
VERSION:2.0
PRODID:-//Crosby Scholars Forsyth - ECPv6.15.13.1//NONSGML v1.0//EN
CALSCALE:GREGORIAN
METHOD:PUBLISH
X-ORIGINAL-URL:https://www.crosbyscholars.org
X-WR-CALDESC:Events for Crosby Scholars Forsyth
REFRESH-INTERVAL;VALUE=DURATION:PT1H
X-Robots-Tag:noindex
X-PUBLISHED-TTL:PT1H
BEGIN:VTIMEZONE
TZID:America/New_York
BEGIN:DAYLIGHT
TZOFFSETFROM:-0500
TZOFFSETTO:-0400
TZNAME:EDT
DTSTART:20210314T070000
END:DAYLIGHT
BEGIN:STANDARD
TZOFFSETFROM:-0400
TZOFFSETTO:-0500
TZNAME:EST
DTSTART:20211107T060000
END:STANDARD
BEGIN:DAYLIGHT
TZOFFSETFROM:-0500
TZOFFSETTO:-0400
TZNAME:EDT
DTSTART:20220313T070000
END:DAYLIGHT
BEGIN:STANDARD
TZOFFSETFROM:-0400
TZOFFSETTO:-0500
TZNAME:EST
DTSTART:20221106T060000
END:STANDARD
BEGIN:DAYLIGHT
TZOFFSETFROM:-0500
TZOFFSETTO:-0400
TZNAME:EDT
DTSTART:20230312T070000
END:DAYLIGHT
BEGIN:STANDARD
TZOFFSETFROM:-0400
TZOFFSETTO:-0500
TZNAME:EST
DTSTART:20231105T060000
END:STANDARD
END:VTIMEZONE
BEGIN:VEVENT
DTSTART;VALUE=DATE:20220513
DTEND;VALUE=DATE:20220514
DTSTAMP:20260423T205331
CREATED:20220502T203747Z
LAST-MODIFIED:20220502T203747Z
UID:8573-1652400000-1652486399@www.crosbyscholars.org
SUMMARY:Community Service Deadline for Grades 6-10
DESCRIPTION:What is the Crosby Scholars community service requirement?\nEach Crosby Scholar must complete at least 2 hours of community service each school year. (Two hours are required\, although five hours are recommended for high school students.) This service should be done at non-profit organizations or programs. \nIf you completed the Crosby Scholars Program during the 2020-2021 school year – you may count summer volunteer hours towards the 2021-2022 school year’s requirement. \nWhat is the deadline to complete and turn in the form?\n Grades 12:  January 31\, 2022 \n          Grade 11: January 31\, 2023 ** \n          Grades 9-10:  May 13\, 2022 \n          Grades 6-8:  May 13\, 2022 \nCLICK HERE for more detailed information and to view some upcoming community service opportunities!
URL:https://www.crosbyscholars.org/event/community-service-deadline-for-grades-6-10/
END:VEVENT
BEGIN:VEVENT
DTSTART;TZID=America/New_York:20220513T180000
DTEND;TZID=America/New_York:20220513T190000
DTSTAMP:20260423T205331
CREATED:20220505T190758Z
LAST-MODIFIED:20220508T232528Z
UID:8602-1652464800-1652468400@www.crosbyscholars.org
SUMMARY:How To Apply for a Last Dollar Grant Webinar
DESCRIPTION:What: Learn what documents are needed and how to apply for Crosby Scholars Last Dollar Grants! This webinar will be hosted by Crosby Scholars’ Financial Aid Coordinator\, Ashly Wilson.\n\nWhen: Friday\, May 13th – 6:00 – 7:00pm\n\nWhere: Virtual via Zoom Webinar\n\nRegistration: Registration is required in your Crosby Scholars Student Portal
URL:https://www.crosbyscholars.org/event/last-dollar-grant-application-webinar/
END:VEVENT
BEGIN:VEVENT
DTSTART;VALUE=DATE:20220519
DTEND;VALUE=DATE:20220520
DTSTAMP:20260423T205331
CREATED:20220505T184919Z
LAST-MODIFIED:20220505T190311Z
UID:8596-1652918400-1653004799@www.crosbyscholars.org
SUMMARY:Leadership Council Celebration - 5/19
DESCRIPTION:When: May 19\, 2022 \nTime: 6:00pm-7:30pm \nWhere: Goodwill Industries\, 2701 University Pkwy. W-S\, NC 27105 \nRSVP is required\, we will be emailing it out to the members of Leadership Council.
URL:https://www.crosbyscholars.org/event/leadership-council-celebration/
END:VEVENT
BEGIN:VEVENT
DTSTART;VALUE=DATE:20220525
DTEND;VALUE=DATE:20220526
DTSTAMP:20260423T205331
CREATED:20220505T190539Z
LAST-MODIFIED:20220505T190539Z
UID:8601-1653436800-1653523199@www.crosbyscholars.org
SUMMARY:Last Chance College Prep Academy for Sophomores - 5/25
DESCRIPTION:When: May 25\, 2022 \nTime: 5:30pm-6:30pm \nRegistration is required through the Crosby Scholars Student Portal to receive the zoom link to join the academy. For questions\, email us at highschool@crosbyscholars.org
URL:https://www.crosbyscholars.org/event/last-chance-college-prep-academy-for-sophomores-5-25/
END:VEVENT
BEGIN:VEVENT
DTSTART;TZID=America/New_York:20220526T183000
DTEND;TZID=America/New_York:20220526T193000
DTSTAMP:20260423T205331
CREATED:20220505T175034Z
LAST-MODIFIED:20220505T175143Z
UID:8590-1653589800-1653593400@www.crosbyscholars.org
SUMMARY:529 College Savings Plans and Strategies to Save for College Webinar (9th & 10th Grade Students & Families)
DESCRIPTION:What: Learn about 529 College Savings Plans and Strategies to Save for College (Parents are strongly encouraged to attend). Parents and students who attend can win a $25 gift card to open and establish an NC 529 College Savings Account!  Account holders can then register throughout the month of May for a drawing to receive a $1\,529 contribution to their NC 529 Account. \nWhen: May 26 6:30PM – 7:30PM \nHow: Virtual only via Zoom Webinar \nWho: Hosted by Crosby Scholars Financial Aid Coordinator with special guest speaker Takeila Hall at College Foundation of North Carolina (CFNC) \nRegistration: Registration is required in the Crosby Scholars Student Portal.
URL:https://www.crosbyscholars.org/event/529-college-savings-plans-and-strategies-to-save-for-college-webinar/
END:VEVENT
END:VCALENDAR