BEGIN:VCALENDAR
VERSION:2.0
PRODID:-//Crosby Scholars Forsyth - ECPv6.15.13.1//NONSGML v1.0//EN
CALSCALE:GREGORIAN
METHOD:PUBLISH
X-WR-CALNAME:Crosby Scholars Forsyth
X-ORIGINAL-URL:https://www.crosbyscholars.org
X-WR-CALDESC:Events for Crosby Scholars Forsyth
REFRESH-INTERVAL;VALUE=DURATION:PT1H
X-Robots-Tag:noindex
X-PUBLISHED-TTL:PT1H
BEGIN:VTIMEZONE
TZID:America/New_York
BEGIN:DAYLIGHT
TZOFFSETFROM:-0500
TZOFFSETTO:-0400
TZNAME:EDT
DTSTART:20210314T070000
END:DAYLIGHT
BEGIN:STANDARD
TZOFFSETFROM:-0400
TZOFFSETTO:-0500
TZNAME:EST
DTSTART:20211107T060000
END:STANDARD
BEGIN:DAYLIGHT
TZOFFSETFROM:-0500
TZOFFSETTO:-0400
TZNAME:EDT
DTSTART:20220313T070000
END:DAYLIGHT
BEGIN:STANDARD
TZOFFSETFROM:-0400
TZOFFSETTO:-0500
TZNAME:EST
DTSTART:20221106T060000
END:STANDARD
BEGIN:DAYLIGHT
TZOFFSETFROM:-0500
TZOFFSETTO:-0400
TZNAME:EDT
DTSTART:20230312T070000
END:DAYLIGHT
BEGIN:STANDARD
TZOFFSETFROM:-0400
TZOFFSETTO:-0500
TZNAME:EST
DTSTART:20231105T060000
END:STANDARD
END:VTIMEZONE
BEGIN:VEVENT
DTSTART;TZID=America/New_York:20220202T180000
DTEND;TZID=America/New_York:20220202T200000
DTSTAMP:20260424T015458
CREATED:20220105T181436Z
LAST-MODIFIED:20220127T145651Z
UID:8053-1643824800-1643832000@www.crosbyscholars.org
SUMMARY:[UPDATE: Virtual Only] ACT Test Prep with capED - English & Reading (Juniors)
DESCRIPTION:LOCATION UPDATE:  This session will now be held VIRTUAL ONLY.\nThis event is for Crosby Scholars Juniors only.  You must register in the Crosby Scholars Student Portal to attend. \nJuniors in North Carolina will take the ACT Plus Writing test on March 1st\, 2022\, during school\, for FREE. \nWhy should you attend a Crosby Scholars ACT Test Prep Session? \n\nStudying before the ACT exam will help you perform your best on test day. \nCrosby Scholars test prep session is a small time commitment with a potentially large payoff.\nUnderstanding the format of the test and how to approach the questions will boost your confidence and allow for a calm approach on test day.\nCrosby Scholars test prep sessions are FREE!  Take these opportunities seriously and appreciate the benefits of your efforts. \n\nACT Test Prep with capED – English & Reading\nDate: 2/2/2022 \nTime: 6:00-8:00pm \nLOCATION UPDATE: This session will now be held VIRTUAL ONLY.  On the day of the event\, the link to join will be sent to students who have registered. \n  \nSeating is limited to the first 60 Crosby Scholars Juniors!  This event is only for students. \nThis test prep sessions is hosted by capED. \n(There will be a Math & Science test prep session offered 2/9/2022. You must register separately to attend that session.) \nTaking the ACT is more than just showing up on test day with pencils and a calculator and hoping for the best. It is a process best begun with formal preparation that includes reviewing test-taking strategies and completing a practice exam with those tips in hand. Preparing well can produce score results that mean taking fewer standardized tests\, saving money\, time\, and energy for other aspects of the college admission process.  \nQuestions? Please email seniorprogram@crosbyscholars.org or call/text the Senior Program team at 336-671-5494.
URL:https://www.crosbyscholars.org/event/act-test-prep-with-caped-english-reading-juniors/
LOCATION:Zoom Webinar
END:VEVENT
BEGIN:VEVENT
DTSTART;VALUE=DATE:20220208
DTEND;VALUE=DATE:20220209
DTSTAMP:20260424T015458
CREATED:20220202T142306Z
LAST-MODIFIED:20220202T142306Z
UID:8180-1644278400-1644364799@www.crosbyscholars.org
SUMMARY:High School Registration Crash Course
DESCRIPTION:This session for students and parents will cover what you should be thinking about in preparation for course registration for next school year! \nWho: Crosby Scholars 9th and 10th graders and parents \nWhen: February 8\, 2022 \nTime: 5:30pm-6:30pm \nLocation: Zoom \nLog into your Crosby Scholars Student Portal to register for event.
URL:https://www.crosbyscholars.org/event/high-school-registration-crash-course/
END:VEVENT
BEGIN:VEVENT
DTSTART;TZID=America/New_York:20220208T160000
DTEND;TZID=America/New_York:20220208T200000
DTSTAMP:20260424T015458
CREATED:20220201T164408Z
LAST-MODIFIED:20220201T164408Z
UID:8167-1644336000-1644350400@www.crosbyscholars.org
SUMMARY:NACAC Performing & Visual Arts Virtual College Fair
DESCRIPTION:NACAC Performing & Visual Arts Virtual College Fair \nRegister here: https://www.nacacattend.org/22VirtualPVA \nNational Association for College Admission Counseling is a hosting a Virtual College Fair involving various colleges nationwide that have Performing Arts & Visual Arts programs.  See the registration link above for more details. \nPlease contact NACAC at collegefairs@nacacnet.org if you have questions about this event. \nThis event is not hosted/sponsored by Crosby Scholars Program.  Please contact the host organization if you have questions regarding event specifics.
URL:https://www.crosbyscholars.org/event/nacac-performing-visual-arts-virtual-college-fair/
END:VEVENT
BEGIN:VEVENT
DTSTART;TZID=America/New_York:20220208T180000
DTEND;TZID=America/New_York:20220208T180000
DTSTAMP:20260424T015458
CREATED:20220201T164525Z
LAST-MODIFIED:20220201T164625Z
UID:8169-1644343200-1644343200@www.crosbyscholars.org
SUMMARY:CFNC The Advantages of Attending an HBCU (Webinar)
DESCRIPTION:CFNC The Advantages of Attending an HBCU: A Showcase of North Carolina’s Historically Black Colleges and Universities (Webinar) \nRegister here: https://www.cfnc.org/events/advantages-of-attending-hbcu/ \nCollege Foundation of North Carolina will have admissions Representatives from North Carolina A&T\, Shaw University\, Elizabeth City State University\, Fayetteville State University\, Bennett College\, North Carolina Central University\, Winston Salem State University\, St. Augustine’s University\, Livingstone College\, and Johnson C. Smith University.  Come learn about what an HBCU can do for you and if it’s the right fit for your future. \nPlease contact CFNC at program.information@cfi.org if you have questions about this event. \nThis event is not hosted/sponsored by Crosby Scholars Program.  Please contact the host organization if you have questions regarding event specifics.
URL:https://www.crosbyscholars.org/event/cfnc-the-advantages-of-attending-an-hbcu/
END:VEVENT
BEGIN:VEVENT
DTSTART;TZID=America/New_York:20220209T180000
DTEND;TZID=America/New_York:20220209T200000
DTSTAMP:20260424T015458
CREATED:20220105T181931Z
LAST-MODIFIED:20220127T145612Z
UID:8057-1644429600-1644436800@www.crosbyscholars.org
SUMMARY:[UPDATE: Virtual Only] ACT Test Prep with capED - Math & Science (Juniors)
DESCRIPTION:LOCATION UPDATE:  This session will now be held VIRTUAL ONLY.\nThis event is for Crosby Scholars Juniors only.  You must register in the Crosby Scholars Student Portal to attend. \nJuniors in North Carolina will take the ACT Plus Writing test on March 1st\, 2022\, during school\, for FREE. \nWhy should you attend a Crosby Scholars ACT Test Prep Session? \n\nStudying before the ACT exam will help you perform your best on test day. \nCrosby Scholars test prep session is a small time commitment with a potentially large payoff.\nUnderstanding the format of the test and how to approach the questions will boost your confidence and allow for a calm approach on test day.\nCrosby Scholars test prep sessions are FREE!  Take these opportunities seriously and appreciate the benefits of your efforts. \n\nACT Test Prep with capED – Math & Science\nDate: 2/9/2022 \nTime: 6:00-8:00pm \nLOCATION UPDATE: This session will now be held VIRTUAL ONLY.  On the day of the event\, the link to join will be sent to students who have registered. \n  \nSeating is limited to the first 60 Crosby Scholars Juniors!  This event is only for students. \nThis test prep sessions is hosted by capED. \n(There is also an English & Reading test prep session offered 2/2/2022. You must register separately to attend that session.) \nTaking the ACT is more than just showing up on test day with pencils and a calculator and hoping for the best. It is a process best begun with formal preparation that includes reviewing test-taking strategies and completing a practice exam with those tips in hand. Preparing well can produce score results that mean taking fewer standardized tests\, saving money\, time\, and energy for other aspects of the college admission process.  \nQuestions? Please email seniorprogram@crosbyscholars.org or call/text the Senior Program team at 336-671-5494.
URL:https://www.crosbyscholars.org/event/act-test-prep-with-caped-math-science/
LOCATION:Zoom Webinar
END:VEVENT
BEGIN:VEVENT
DTSTART;VALUE=DATE:20220212
DTEND;VALUE=DATE:20220213
DTSTAMP:20260424T015458
CREATED:20220113T174805Z
LAST-MODIFIED:20220113T174805Z
UID:8121-1644624000-1644710399@www.crosbyscholars.org
SUMMARY:9th/10th Grade Academy (A)
DESCRIPTION:Register for your 9th and 10th Grade Crosby Scholars Academy for the 2021-2022 school year. All Scholars are only required to attend ONE Crosby Scholar Academy each academic year. \nTime: 9:00am-10:30am \nCourses offered: Stress Management\, College Prep\, Careers\, and Time Management \nLocation: Virtual Via Zoom \nYou must register through your Crosby Scholars Student Portal to get further academy details.
URL:https://www.crosbyscholars.org/event/9th-10th-grade-academy-a-6/
END:VEVENT
BEGIN:VEVENT
DTSTART;VALUE=DATE:20220212
DTEND;VALUE=DATE:20220213
DTSTAMP:20260424T015458
CREATED:20220113T174841Z
LAST-MODIFIED:20220113T174841Z
UID:8123-1644624000-1644710399@www.crosbyscholars.org
SUMMARY:9th/10th Grade Academy (B)
DESCRIPTION:Register for your 9th and 10th Grade Crosby Scholars Academy for the 2021-2022 school year. All Scholars are only required to attend ONE Crosby Scholar Academy each academic year. \nTime: 11:00am-12:30pm \nCourses offered: Stress Management\, College Prep\, Careers\, and Time Management \nLocation: Virtual Via Zoom \nYou must register through your Crosby Scholars Student Portal to get further academy details.
URL:https://www.crosbyscholars.org/event/9th-10th-grade-academy-b-5/
END:VEVENT
BEGIN:VEVENT
DTSTART;TZID=America/New_York:20220215T090000
DTEND;TZID=America/New_York:20220215T200000
DTSTAMP:20260424T015458
CREATED:20220201T164822Z
LAST-MODIFIED:20220201T164822Z
UID:8173-1644915600-1644955200@www.crosbyscholars.org
SUMMARY:NACAC Multi-Session Virtual College Fair
DESCRIPTION:NACAC Multi-Session Virtual College Fair (9am-12pm & 6pm-8pm) \nRegister here: https://www.nacacattend.org/22VirtualFeb15 \nNational Association for College Admission Counseling is a hosting multiple general sessions of a Virtual College Fair involving various colleges nationwide.  See the registration link above for more details. \nPlease contact NACAC at collegefairs@nacacnet.org if you have questions about this event. \nThis event is not hosted/sponsored by Crosby Scholars Program.  Please contact the host organization if you have questions regarding event specifics.
URL:https://www.crosbyscholars.org/event/nacac-multi-session-virtual-college-fair/
END:VEVENT
BEGIN:VEVENT
DTSTART;VALUE=DATE:20220216
DTEND;VALUE=DATE:20220217
DTSTAMP:20260424T015458
CREATED:20220113T175254Z
LAST-MODIFIED:20220215T140726Z
UID:8125-1644969600-1645055999@www.crosbyscholars.org
SUMMARY:Scholarships Overview for 9th/10th Grade Parents
DESCRIPTION:Topics: Discuss different types of scholarships\, websites to search for scholarships\, and research tips \nWhen: February 16\, 2022 \nTime: 6:30pm-7:30pm \nWhere: Virtual via Zoom Webinar \nRegister through Crosby Scholars Student/Parent Portal to receive Zoom link on the morning of February 16th. If you are having trouble logging into the portal\, email us at highschool@crosbyscholars.org.
URL:https://www.crosbyscholars.org/event/scholarships-overview-for-high-school-parents/
END:VEVENT
BEGIN:VEVENT
DTSTART;TZID=America/New_York:20220217T163000
DTEND;TZID=America/New_York:20220217T173000
DTSTAMP:20260424T015458
CREATED:20220203T173951Z
LAST-MODIFIED:20220317T134406Z
UID:8215-1645115400-1645119000@www.crosbyscholars.org
SUMMARY:Juniors: Think Like a Senior (Virtual)
DESCRIPTION:All Juniors must participate in ONE Think Like a Senior session.  Learn how the Senior Program supports you through the college admission and financial aid processes during this ZOOM MEETING.  Additional dates are offered throughout February and March.  See all dates here. \nRegistration is required in the Crosby Scholars Student Portal.  All registered students will receive the link to join and login instructions on the day of the event. \nDuring Think Like a Senior\, you will learn about the Crosby Scholars Senior Program requirements and how Crosby Scholars Program supports you through the college admission and financial aid process–including your enrollment decision!  We will also discuss the Crosby Scholars Senior Advisor Program in depth so that you are well equipped to choose wisely when selecting a Senior Advisor.  [Ready to submit your Senior Advisor form now?  You can do so here!  Senior Advisor forms are due April 8\, 2022.  You will learn more during TLS.] \nAdditionally\, you will have the opportunity to work in a break-out classroom with one of the following topics: \n\nBuilding your personal Target List of Colleges\nBreaking Down the College Application\nDecoding The College Essay: What Topic is Best for You\n\nParents:  Given the significant role they play in the college journey\, parents are strongly encouraged to participate in the session along with their student; however\, parents cannot participate and earn TLS credit on a student’s behalf. \nQuestions?  Please contact seniorprogram@crosbyscholars.org or call/text 336-671-5494.
URL:https://www.crosbyscholars.org/event/juniors-think-like-a-senior-virtual-2/2022-02-17/
LOCATION:Zoom Meeting
END:VEVENT
BEGIN:VEVENT
DTSTART;VALUE=DATE:20220223
DTEND;VALUE=DATE:20220224
DTSTAMP:20260424T015458
CREATED:20220202T143758Z
LAST-MODIFIED:20220202T143758Z
UID:8184-1645574400-1645660799@www.crosbyscholars.org
SUMMARY:High School LC Meeting
DESCRIPTION:When: February 23\, 2022 \nTime: 5:00pm \nWhere: Virtual via Zoom
URL:https://www.crosbyscholars.org/event/high-school-lc-meeting/
END:VEVENT
BEGIN:VEVENT
DTSTART;TZID=America/New_York:20220223T163000
DTEND;TZID=America/New_York:20220223T173000
DTSTAMP:20260424T015458
CREATED:20220214T161010Z
LAST-MODIFIED:20220215T140042Z
UID:8276-1645633800-1645637400@www.crosbyscholars.org
SUMMARY:6th Grade Academy - Virtual
DESCRIPTION:Time: 4:30 – 5:30pm \nTopic: SMART Goals \nLocation: Virtual via Zoom. \nRegistration is required for this event through your Student Portal. \nStudents are only required to attend one Crosby Scholars Academy each school year.
URL:https://www.crosbyscholars.org/event/6th-grade-academy-virtual-copy-copy/
END:VEVENT
BEGIN:VEVENT
DTSTART;TZID=America/New_York:20220223T163000
DTEND;TZID=America/New_York:20220223T173000
DTSTAMP:20260424T015458
CREATED:20220214T161216Z
LAST-MODIFIED:20220215T135919Z
UID:8279-1645633800-1645637400@www.crosbyscholars.org
SUMMARY:7th Grade Academy - Virtual
DESCRIPTION:Time: 4:30 – 5:30pm \nTopic: TBD \nLocation: Virtual via Zoom. \nRegistration is required for this event through your Student Portal. \nStudents are only required to attend one Crosby Scholars Academy each school year.
URL:https://www.crosbyscholars.org/event/6th-grade-academy-virtual-copy-copy-copy/
END:VEVENT
BEGIN:VEVENT
DTSTART;TZID=America/New_York:20220224T160000
DTEND;TZID=America/New_York:20220224T200000
DTSTAMP:20260424T015458
CREATED:20220201T164907Z
LAST-MODIFIED:20220201T164907Z
UID:8176-1645718400-1645732800@www.crosbyscholars.org
SUMMARY:NACAC STEM Virtual College Fair
DESCRIPTION:NACAC STEM Virtual College Fair \nRegister here: https://www.nacacattend.org/22VirtualPVA \nNational Association for College Admission Counseling is a hosting a Virtual College Fair involving various colleges nationwide that have STEM (Science\, Technology\, Engineering\, and Math) programs.  See the registration link above for more details. \nPlease contact NACAC at collegefairs@nacacnet.org if you have questions about this event. \nThis event is not hosted/sponsored by Crosby Scholars Program.  Please contact the host organization if you have questions regarding event specifics.
URL:https://www.crosbyscholars.org/event/nacac-stem-virtual-college-fair/
END:VEVENT
BEGIN:VEVENT
DTSTART;TZID=America/New_York:20220228T163000
DTEND;TZID=America/New_York:20220228T173000
DTSTAMP:20260424T015458
CREATED:20220214T161547Z
LAST-MODIFIED:20220215T140007Z
UID:8282-1646065800-1646069400@www.crosbyscholars.org
SUMMARY:6th Grade Academy - Virtual
DESCRIPTION:Time: 4:30 – 5:30pm \nTopic: SMART Goals \nLocation: Virtual via Zoom. \nRegistration is required for this event through your Student Portal. \nStudents are only required to attend one Crosby Scholars Academy each school year.
URL:https://www.crosbyscholars.org/event/6th-grade-academy-virtual-copy-copy-copy-2/
END:VEVENT
BEGIN:VEVENT
DTSTART;TZID=America/New_York:20220228T163000
DTEND;TZID=America/New_York:20220228T173000
DTSTAMP:20260424T015458
CREATED:20220214T161643Z
LAST-MODIFIED:20220215T140106Z
UID:8284-1646065800-1646069400@www.crosbyscholars.org
SUMMARY:7th Grade Academy - Virtual
DESCRIPTION:Time: 4:30 – 5:30pm \nTopic: TBD \nLocation: Virtual via Zoom. \nRegistration is required for this event through your Student Portal. \nStudents are only required to attend one Crosby Scholars Academy each school year.
URL:https://www.crosbyscholars.org/event/6th-grade-academy-virtual-copy-copy-copy-2-copy/
END:VEVENT
END:VCALENDAR