BEGIN:VCALENDAR
VERSION:2.0
PRODID:-//Crosby Scholars Forsyth - ECPv6.15.13.1//NONSGML v1.0//EN
CALSCALE:GREGORIAN
METHOD:PUBLISH
X-WR-CALNAME:Crosby Scholars Forsyth
X-ORIGINAL-URL:https://www.crosbyscholars.org
X-WR-CALDESC:Events for Crosby Scholars Forsyth
REFRESH-INTERVAL;VALUE=DURATION:PT1H
X-Robots-Tag:noindex
X-PUBLISHED-TTL:PT1H
BEGIN:VTIMEZONE
TZID:America/New_York
BEGIN:DAYLIGHT
TZOFFSETFROM:-0500
TZOFFSETTO:-0400
TZNAME:EDT
DTSTART:20210314T070000
END:DAYLIGHT
BEGIN:STANDARD
TZOFFSETFROM:-0400
TZOFFSETTO:-0500
TZNAME:EST
DTSTART:20211107T060000
END:STANDARD
BEGIN:DAYLIGHT
TZOFFSETFROM:-0500
TZOFFSETTO:-0400
TZNAME:EDT
DTSTART:20220313T070000
END:DAYLIGHT
BEGIN:STANDARD
TZOFFSETFROM:-0400
TZOFFSETTO:-0500
TZNAME:EST
DTSTART:20221106T060000
END:STANDARD
BEGIN:DAYLIGHT
TZOFFSETFROM:-0500
TZOFFSETTO:-0400
TZNAME:EDT
DTSTART:20230312T070000
END:DAYLIGHT
BEGIN:STANDARD
TZOFFSETFROM:-0400
TZOFFSETTO:-0500
TZNAME:EST
DTSTART:20231105T060000
END:STANDARD
END:VTIMEZONE
BEGIN:VEVENT
DTSTART;TZID=America/New_York:20220112T180000
DTEND;TZID=America/New_York:20220112T190000
DTSTAMP:20260424T033213
CREATED:20211221T152628Z
LAST-MODIFIED:20220105T160108Z
UID:7985-1642010400-1642014000@www.crosbyscholars.org
SUMMARY:SHE Program Junior Academy
DESCRIPTION:SHE Program – Junior Academy\nAre you involved in the SHE Program?  Are you a Junior?  Do you still need to complete Junior Academy?  This event is for you!  This virtual Junior Academy is mandatory for all SHE Program Scholars who have not yet completed Junior Academy.  Registration is required in the Crosby Scholars Student Portal. \nWhat: During the virtual Junior Academy\, you will learn about the Crosby Scholars Junior Program requirements and how Crosby Scholars supports you through the college admission and financial aid processes\, including your enrollment decision!  You may be thinking it is too early to start preparing for this process\, but we assure you\, it is never too early to begin planning for your senior year and beyond! \nWhen: Wednesday\, January 12\, 2022.  6:00PM-7:00PM \nWhere: Zoom webinar.  This event is virtual only. \nAll registered students will receive the link to join on the day of the event. \nIf you have questions or concerns about this event\, please contact seniorprogram@crosbyscholars.org or call/text the Senior Program team at 336-671-5494.  
URL:https://www.crosbyscholars.org/event/she-program-junior-academy/
LOCATION:Goodwill Industries\, 2701 University Parkway\, Winston Salem\, NC\, 27105\, United States
END:VEVENT
BEGIN:VEVENT
DTSTART;TZID=America/New_York:20220112T183000
DTEND;TZID=America/New_York:20220112T193000
DTSTAMP:20260424T033213
CREATED:20220107T140632Z
LAST-MODIFIED:20220107T140646Z
UID:8084-1642012200-1642015800@www.crosbyscholars.org
SUMMARY:Webinar: How to Apply for Crosby Scholars Scholarships in the Student Portal
DESCRIPTION:Learn how to apply for over 30 Crosby Scholarship opportunities using your Crosby Scholars Student Portal.  Ashly Wilson\, Financial Aid Coordinator\, will demonstrate step-by-step how to apply for Scholarships\, how to upload important documentation to your application and more.   \nThis webinar is virtual and will be presented via Zoom.  Please register to attend in the Crosby Scholars Student Portal to receive details on how to join.  \nWhat: Webinar: How to Apply for Crosby Scholars Scholarships using the Student Portal\nWhen: January 12 6:30PM – 7:30PM\nHow to Join: Register to attend in the Crosby Scholars Student Portal.
URL:https://www.crosbyscholars.org/event/webinar-how-to-apply-for-crosby-scholars-scholarships-in-the-student-portal/
LOCATION:Zoom Webinar
END:VEVENT
BEGIN:VEVENT
DTSTART;VALUE=DATE:20220113
DTEND;VALUE=DATE:20220114
DTSTAMP:20260424T033213
CREATED:20220107T181248Z
LAST-MODIFIED:20220107T181248Z
UID:8097-1642032000-1642118399@www.crosbyscholars.org
SUMMARY:CFNC Start Now to Find $$ for College Workshop
DESCRIPTION:The College Foundation of North Carolina (CFNC) is hosting a Start Now to Find $$ for College Workshop and we are giving students Academy credit for joining. \nDate: January 13\nTime: 6:00pm\nLocation: Virtual \nLog into your Crosby Scholars Student Portal to view the instructions on what to do to receive academy credit. If you have any questions\, email us at highschool@crosbyscholars.org
URL:https://www.crosbyscholars.org/event/cfnc-start-now-to-find-for-college-workshop/
END:VEVENT
BEGIN:VEVENT
DTSTART;TZID=America/New_York:20220114T120000
DTEND;TZID=America/New_York:20220114T130000
DTSTAMP:20260424T033213
CREATED:20220106T213114Z
LAST-MODIFIED:20220106T213320Z
UID:8079-1642161600-1642165200@www.crosbyscholars.org
SUMMARY:Crosby Scholars Senior Advisors Scholarship Training
DESCRIPTION:All Self-Selected and Staff Advisors are invited to learn about the advisor’s role in the 2021-22 Crosby Scholars Scholarship season and review over 30 scholarship offerings including three new\, renewable scholarships for the class of 2022. Details are posted in the advisor portal including the link to join the training session. \nHere’s the latest 2022 Crosby Scholars Scholarship Opportunities list. \nYou can also use the Scholarship Pathways document to help identify scholarships that best match your Scholar(s). \nQuestions — about the training session or Scholarships in general?  Contact Ashly Wilson\, Financial Aid Coordinator\, at awilson@crosbyscholars.org.
URL:https://www.crosbyscholars.org/event/crosby-scholars-senior-advisors-scholarship-training/
END:VEVENT
BEGIN:VEVENT
DTSTART;VALUE=DATE:20220121
DTEND;VALUE=DATE:20220122
DTSTAMP:20260424T033213
CREATED:20220113T174532Z
LAST-MODIFIED:20220113T174532Z
UID:8117-1642723200-1642809599@www.crosbyscholars.org
SUMMARY:9th/10th Grade Academy
DESCRIPTION:Register for your 9th and 10th Grade Crosby Scholars Academy for the 2021-2022 school year. All Scholars are only required to attend ONE Crosby Scholar Academy each academic year. \nTime: 12:00pm-1:00pm \nCourses offered: Right Decisions Right Now \nLocation: Virtual via Zoom \nYou must register through your Crosby Scholars Student Portal to get further academy details.
URL:https://www.crosbyscholars.org/event/9th-10th-grade-academy-51/
END:VEVENT
BEGIN:VEVENT
DTSTART;VALUE=DATE:20220125
DTEND;VALUE=DATE:20220126
DTSTAMP:20260424T033213
CREATED:20220107T181334Z
LAST-MODIFIED:20220107T181348Z
UID:8099-1643068800-1643155199@www.crosbyscholars.org
SUMMARY:CFNC Accessibility in College Workshop
DESCRIPTION:The College Foundation of North Carolina (CFNC) is hosting a Accessibility in College Workshop and we are giving students Academy credit for joining. \nDate: January 25\nTime: 3:00pm\nLocation: Virtual \nLog into your Crosby Scholars Student Portal to view the instructions on what to do to receive academy credit. If you have any questions\, email us at highschool@crosbyscholars.org
URL:https://www.crosbyscholars.org/event/cfnc-accessibility-in-college-workshop/
END:VEVENT
BEGIN:VEVENT
DTSTART;TZID=America/New_York:20220125T180000
DTEND;TZID=America/New_York:20220125T190000
DTSTAMP:20260424T033213
CREATED:20220105T181143Z
LAST-MODIFIED:20220105T182119Z
UID:8051-1643133600-1643137200@www.crosbyscholars.org
SUMMARY:Decoding the ACT: Why Your Score Matters (Juniors)
DESCRIPTION:This event is for Crosby Scholars Juniors only.  You must register in the Crosby Scholars Student Portal to attend. \nJuniors in North Carolina will take the ACT Plus Writing test on March 1st\, 2022\, during school\, for FREE.  \nRegister in the Crosby Scholars Student Portal to attend this Zoom webinar to learn how a practice test can help you prepare for the ACT\, to hear general information about the exam\, learn test-taking strategies\, and to learn how colleges may use your scores in recruitment\, admission decision-making\, and scholarship consideration.  Parents are encouraged to watch the Zoom webinar with their students. \nTo receive event reminders and program updates via text messages\, add your cell phone number when you register. \nPlease note\, this event will be hosted by Owens Test Prep. \nDate: January 25th\, 2022 \nTime: 6:00-7:00pm \nLocation: Zoom Webinar: online only \nRegistered students will receive a link and login instructions via email on January 25th\, 2022\, prior to the start of the webinar. \nThis webinar will require the following: \n\nInternet Connection\nComputer/Tablet/iPad\nEmail address to log in to the presentation\nSpeakers/headphones\n\nYou must be able to meet all the above listed criteria to participate in the webinar. If you cannot meet these requirements please do not register to participate in this webinar. You must log in to the webinar on time. \nThe ACT is an entrance exam traditionally used by many colleges as one criterion in deciding whom to admit.  The test has four sections with multiple-choice questions:  Reading\, Math\, Science\, and English\, and includes an optional 40-minute writing test.  Students typically take the ACT for the first time during the fall or spring of the junior year of high school.  Juniors in North Carolina have the privilege of sitting for the test during the school day at their home high school\, and the Crosby Scholars Program wants to help them take full advantage of this opportunity. \nQuestions? Please email seniorprogram@crosbyscholars.org or call/text the Senior Program team at 336-671-5494.
URL:https://www.crosbyscholars.org/event/decoding-the-act-why-your-score-matters-juniors-2/
END:VEVENT
BEGIN:VEVENT
DTSTART;VALUE=DATE:20220131
DTEND;VALUE=DATE:20220201
DTSTAMP:20260424T033213
CREATED:20220106T204855Z
LAST-MODIFIED:20220106T205545Z
UID:8074-1643587200-1643673599@www.crosbyscholars.org
SUMMARY:Senior Community Service Deadline
DESCRIPTION:The deadline for Seniors to submit Community Service Hours is January 31\, 2022.\nYou must submit a total of 5 hours of Community Service between your Junior and Senior year. \nYou can log in to your Crosby Scholars Student Portal account to see if you have completed your Community Service requirement.  Log in and click on the “My Status” tab at the top of the page\, then scroll down to the “Program Requirements / Status” section to view your Community Service hours and completion. \n  \nFind Community Service opportunities on our website here. \n  \nFORM SUBMISSION: Use our online Community Service form to easily submit your Community Service hours!  No signature is required for the online form.  Signatures are still required for the paper or PDF form. \n  \nQuestions? Please email seniorprogram@crosbyscholars.org or call/text us at 336-671-5494.
URL:https://www.crosbyscholars.org/event/senior-community-service-deadline/
END:VEVENT
BEGIN:VEVENT
DTSTART;VALUE=DATE:20220131
DTEND;VALUE=DATE:20220201
DTSTAMP:20260424T033213
CREATED:20220113T174640Z
LAST-MODIFIED:20220121T173435Z
UID:8119-1643587200-1643673599@www.crosbyscholars.org
SUMMARY:High School Leadership Council Meeting
DESCRIPTION:When: January 31st\, 2022 \nTime: 5:00pm-5:30pm \nWhere: Virtual via Zoom
URL:https://www.crosbyscholars.org/event/high-school-leadership-council-meeting/
END:VEVENT
END:VCALENDAR